BEGIN:VCALENDAR
VERSION:2.0
PRODID:-//ChamberMaster//Event Calendar 2.0//EN
METHOD:PUBLISH
X-PUBLISHED-TTL:P3D
REFRESH-INTERVAL:P3D
CALSCALE:GREGORIAN
BEGIN:VEVENT
DTSTART:20220319T220000Z
DTEND:20220320T030000Z
X-MICROSOFT-CDO-ALLDAYEVENT:FALSE
SUMMARY:2022 Faribault Flannel Formal
DESCRIPTION:Faribault Main Street is excited to bring you the 2022 Faribault Flannel Formal!\n\nThe Flannel Formal will be held in the craft beverage curve at the 10\,000 Drops Craft Distillers and Corks and Pints campus on March 19th!\n\nYour ($20) ticket gets you full access to live music and a commemorative glass! Plus Lumberjack games! Come dressed in your finest flannel for a chance to win our Best Dressed Lumberjack & Lumberjane contest!\n\nMake a mean hotdish? Enter the hotdish contest for a chance at a $100 Chamber Check!\n\nThis is a 21+ event. No children or pets allowed\, no exceptions.\n\nThank you to the sponsors who help make this event possible\n\nOur Platinum Sponsor:\n\nSage Glass\n\nOur Gold Sponsors:\n\nFaribo Insurance\n\nReliance Bank\n\nHeartman Insurance\n\nState Bank of Faribault\n\nand our Silver Sponsors:\n\nJOD\n\nSouthern Heights Dental\n\nC & S Vending\n\nTony Langerud- State Farm Insurance\n\nFaribault Woolen Mill\n\nMercury Minnesota\n\nRichie Eye Clinic\n\nLaCanne's Marine
X-ALT-DESC;FMTTYPE=text/html:<div class="kvgmc6g5 cxmmr5t8 oygrvhab hcukyx3x c1et5uql" style="overflow-wrap: break-word\; margin: 0px\; font-family: &quot\;Segoe UI Historic&quot\;\, &quot\;Segoe UI&quot\;\, Helvetica\, Arial\, sans-serif\; color: rgb(5\, 5\, 5)\; font-size: 15px\;">Faribault Main Street is excited to bring you the 2022 Faribault Flannel Formal!<br />\nThe Flannel Formal will be held in the craft beverage curve at the 10\,000 Drops Craft Distillers and Corks and Pints campus on March 19th!<br />\nYour ($20) ticket gets you full access to live music and a commemorative glass! Plus Lumberjack games! Come dressed in your finest flannel for a chance to win our Best Dressed Lumberjack &amp\; Lumberjane contest!<br />\nMake a mean hotdish? Enter the hotdish contest for a chance at a $100 Chamber Check!<br />\nThis is a 21+ event. No children or pets allowed\, no exceptions.<br />\nThank you to the sponsors who help make this event possible</div>\n\n<div class="cxmmr5t8 oygrvhab hcukyx3x c1et5uql o9v6fnle" style="overflow-wrap: break-word\; margin: 0.5em 0px 0px\; font-family: &quot\;Segoe UI Historic&quot\;\, &quot\;Segoe UI&quot\;\, Helvetica\, Arial\, sans-serif\; color: rgb(5\, 5\, 5)\; font-size: 15px\;">Our Platinum Sponsor:<br />\nSage Glass</div>\n\n<div class="cxmmr5t8 oygrvhab hcukyx3x c1et5uql o9v6fnle" style="overflow-wrap: break-word\; margin: 0.5em 0px 0px\; font-family: &quot\;Segoe UI Historic&quot\;\, &quot\;Segoe UI&quot\;\, Helvetica\, Arial\, sans-serif\; color: rgb(5\, 5\, 5)\; font-size: 15px\;">Our Gold Sponsors:<br />\nFaribo Insurance<br />\nReliance Bank<br />\nHeartman Insurance<br />\nState Bank of Faribault</div>\n\n<div class="cxmmr5t8 oygrvhab hcukyx3x c1et5uql o9v6fnle" style="overflow-wrap: break-word\; margin: 0.5em 0px 0px\; font-family: &quot\;Segoe UI Historic&quot\;\, &quot\;Segoe UI&quot\;\, Helvetica\, Arial\, sans-serif\; color: rgb(5\, 5\, 5)\; font-size: 15px\;">and our Silver Sponsors:<br />\nJOD<br />\nSouthern Heights Dental<br />\nC &amp\; S Vending<br />\nTony Langerud- State Farm Insurance<br />\nFaribault Woolen Mill<br />\nMercury Minnesota<br />\nRichie Eye Clinic<br />\nLaCanne&#39\;s Marine</div>\n
LOCATION:
UID:e.66.17612
SEQUENCE:3
DTSTAMP:20260423T094755Z
URL:https://members.faribaultmn.org/events/details/2022-faribault-flannel-formal-17612
END:VEVENT

END:VCALENDAR
