BEGIN:VCALENDAR
VERSION:2.0
PRODID:-//ChamberMaster//Event Calendar 2.0//EN
METHOD:PUBLISH
X-PUBLISHED-TTL:P3D
REFRESH-INTERVAL:P3D
CALSCALE:GREGORIAN
BEGIN:VEVENT
DTSTART:20181006T190000Z
DTEND:20181006T233000Z
X-MICROSOFT-CDO-ALLDAYEVENT:FALSE
SUMMARY:Artisan Market
DESCRIPTION:Please stop by our new Ramble Artisan Market on Saturday October 6 from 2-6PM. These are local artists who create nature inspired or sustainable goods. It is FREE and OPEN TO THE PUBLIC! Our artists include: Rare Necessities: re-purposed housewares www.rare-necessities.com Audrey Sand: woolen mittens and purses from woolen mill blankets All Thumbs Woodturning: handcrafted wooden bowls\, cutting boards& more PKM Creations: Metal & String Art Buscho Farms : Wool goods\, goats milk soap\, candles www.buschofarms.com Ron Hammond Artworks: Original Acrylic Paintings Kalee Stephens: Decorative Succulents Serenity Pond Creations : Handmade sterling silver and stone jewelry\, Leather goods\, and journals Can't wait to see you there!
X-ALT-DESC;FMTTYPE=text/html:Please stop by our new Ramble Artisan Market on Saturday October 6 from 2-6PM. These are local artists who create nature inspired or sustainable goods. It is FREE and OPEN TO THE PUBLIC! Our artists include: Rare Necessities: re-purposed housewares www.rare-necessities.com Audrey Sand: woolen mittens and purses from woolen mill blankets All Thumbs Woodturning: handcrafted wooden bowls\, cutting boards&amp\; more PKM Creations: Metal &amp\; String Art Buscho Farms : Wool goods\, goats milk soap\, candles www.buschofarms.com Ron Hammond Artworks: Original Acrylic Paintings Kalee Stephens: Decorative Succulents Serenity Pond Creations : Handmade sterling silver and stone jewelry\, Leather goods\, and journals Can&#39\;t wait to see you there!
LOCATION:River Bend Nature Center 1000 Rustad Rd. Faribault\, MN
UID:e.66.16219
SEQUENCE:3
DTSTAMP:20260423T095901Z
URL:https://members.faribaultmn.org/events/details/artisan-market-16219
END:VEVENT

END:VCALENDAR
