BEGIN:VCALENDAR
VERSION:2.0
PRODID:-//ChamberMaster//Event Calendar 2.0//EN
METHOD:PUBLISH
X-PUBLISHED-TTL:P3D
REFRESH-INTERVAL:P3D
CALSCALE:GREGORIAN
BEGIN:VEVENT
DTSTART:20181215T160000Z
DTEND:20181215T180000Z
X-MICROSOFT-CDO-ALLDAYEVENT:FALSE
SUMMARY:Backyard Bird Count
DESCRIPTION:Join River Bend as we participate in the National Audubon Society's annual Christmas Bird Count. Stop in to make a birdfeeder\, practice identifying birds as we submit our findings to the National Audubon Society. Free\, All ages
X-ALT-DESC;FMTTYPE=text/html:Join River Bend as we participate in the National Audubon Society&#39\;s annual Christmas Bird Count. Stop in to make a birdfeeder\, practice identifying birds as we submit our findings to the National Audubon Society. Free\, All ages
LOCATION:River Bend Nature Center 1000 Rustad Rd. Faribault\, MN 55021
UID:e.66.16245
SEQUENCE:3
DTSTAMP:20260423T082844Z
URL:https://members.faribaultmn.org/events/details/backyard-bird-count-16245
END:VEVENT

END:VCALENDAR
