BEGIN:VCALENDAR
VERSION:2.0
PRODID:-//ChamberMaster//Event Calendar 2.0//EN
METHOD:PUBLISH
X-PUBLISHED-TTL:P3D
REFRESH-INTERVAL:P3D
CALSCALE:GREGORIAN
BEGIN:VEVENT
DTSTART:20220429T210000Z
DTEND:20220430T010000Z
X-MICROSOFT-CDO-ALLDAYEVENT:FALSE
SUMMARY:Bowl for Kids Sake
DESCRIPTION:Let's get rollin'! Lanes are filling up and the biggest Minnesota-themed bowling party of the year is just around the corner!\n\nWe know this can be a busy time of year for many local businesses\, but don't cha know? Participating in Bowl for Kids' Sake is not only a great way to support local youth and empower Big Brothers Big Sisters' mission\, but research shows employee volunteering can also be a great way to:\n\n\n	Increase employee retention\n	Boost office morale\n	Promote brand awareness\n\n\n \n\nIt's a win-win for everyone! To learn more or register for Bowl for Kids' Sake click here . Call 507-451-5922 to reserve your bowling time.\n\n \n\nFaribault - Faribowl Bowling Center\n\nFriday\, April 29\n\n4:00pm-8:00pm\n\n \n\nSee you on the lanes!
X-ALT-DESC;FMTTYPE=text/html:<p style="color: rgb(50\, 49\, 48)\; background-color: rgb(255\, 255\, 255)\; font-size: 11pt\; font-family: Calibri\, sans-serif\; margin: 0px\;"><b><span style="margin: 0px\; padding: 0px\; border: 0px\; font-style: inherit\; font-variant: inherit\; font-weight: inherit\; font-stretch: inherit\; font-size: 10pt\; line-height: inherit\; font-family: Georgia\, serif\; vertical-align: baseline\; color: inherit\;">Let&rsquo\;s get rollin&rsquo\;!&nbsp\;</span></b><span style="margin: 0px\; padding: 0px\; border: 0px\; font-style: inherit\; font-variant: inherit\; font-weight: inherit\; font-stretch: inherit\; font-size: 10pt\; line-height: inherit\; font-family: Georgia\, serif\; vertical-align: baseline\; color: inherit\;">Lanes are filling up and the biggest Minnesota-themed bowling party of the year is just around the corner!</span></p>\n\n<p style="color: rgb(50\, 49\, 48)\; background-color: rgb(255\, 255\, 255)\; font-size: 11pt\; font-family: Calibri\, sans-serif\; margin: 0px\;"><span style="margin: 0px\; padding: 0px\; border: 0px\; font-style: inherit\; font-variant: inherit\; font-weight: inherit\; font-stretch: inherit\; font-size: 10pt\; line-height: inherit\; font-family: Georgia\, serif\; vertical-align: baseline\; color: inherit\;">We know this can be a busy time of year for many local businesses\, but&nbsp\;<i>don&rsquo\;t cha</i>&nbsp\;<i>know</i>? Participating in Bowl for Kids&rsquo\; Sake is not only a great way to support local youth and empower Big Brothers Big Sisters&rsquo\; mission\, but&nbsp\;<a data-auth="NotApplicable" data-linkindex="0" href="https://www2.deloitte.com/content/dam/Deloitte/us/Documents/about-deloitte/us-2017-deloitte-volunteerism-survey.pdf" rel="noopener noreferrer" style="margin: 0px\; padding: 0px\; border: 0px\; font: inherit\; vertical-align: baseline\;" target="_blank">research shows</a>&nbsp\;employee volunteering can also be a great way to:</span></p>\n\n<ul style="color: rgb(50\, 49\, 48)\; font-family: &quot\;Segoe UI&quot\;\, &quot\;Segoe UI Web (West European)&quot\;\, &quot\;Segoe UI&quot\;\, -apple-system\, BlinkMacSystemFont\, Roboto\, &quot\;Helvetica Neue&quot\;\, sans-serif\; font-size: 15px\; background-color: rgb(255\, 255\, 255)\; margin-top: 0px\; margin-bottom: 0px\;" type="disc">\n	<li style="font-size: 11pt\; font-family: Calibri\, sans-serif\; margin: 0px\;"><b><span style="margin: 0px\; padding: 0px\; border: 0px\; font-style: inherit\; font-variant: inherit\; font-weight: inherit\; font-stretch: inherit\; font-size: 10pt\; line-height: inherit\; font-family: Georgia\, serif\; vertical-align: baseline\; color: inherit\;">Increase employee retention</span></b></li>\n	<li style="font-size: 11pt\; font-family: Calibri\, sans-serif\; margin: 0px\;"><b><span style="margin: 0px\; padding: 0px\; border: 0px\; font-style: inherit\; font-variant: inherit\; font-weight: inherit\; font-stretch: inherit\; font-size: 10pt\; line-height: inherit\; font-family: Georgia\, serif\; vertical-align: baseline\; color: inherit\;">Boost office morale</span></b></li>\n	<li style="font-size: 11pt\; font-family: Calibri\, sans-serif\; margin: 0px\;"><b><span style="margin: 0px\; padding: 0px\; border: 0px\; font-style: inherit\; font-variant: inherit\; font-weight: inherit\; font-stretch: inherit\; font-size: 10pt\; line-height: inherit\; font-family: Georgia\, serif\; vertical-align: baseline\; color: inherit\;">Promote brand awareness</span></b></li>\n</ul>\n\n<p style="color: rgb(50\, 49\, 48)\; background-color: rgb(255\, 255\, 255)\; font-size: 11pt\; font-family: Calibri\, sans-serif\; margin: 0px\;"><span style="margin: 0px\; padding: 0px\; border: 0px\; font-style: inherit\; font-variant: inherit\; font-weight: inherit\; font-stretch: inherit\; font-size: 10pt\; line-height: inherit\; font-family: Georgia\, serif\; vertical-align: baseline\; color: inherit\;">&nbsp\;</span></p>\n\n<p style="color: rgb(50\, 49\, 48)\; background-color: rgb(255\, 255\, 255)\; font-size: 11pt\; font-family: Calibri\, sans-serif\; margin: 0px\;"><span style="margin: 0px\; padding: 0px\; border: 0px\; font-style: inherit\; font-variant: inherit\; font-weight: inherit\; font-stretch: inherit\; font-size: 10pt\; line-height: inherit\; font-family: Georgia\, serif\; vertical-align: baseline\; color: inherit\;">It&rsquo\;s a win-win for everyone! To learn more or register for Bowl for Kids&rsquo\; Sake&nbsp\;<a data-auth="NotApplicable" data-linkindex="1" href="https://nam02.safelinks.protection.outlook.com/?url=https%3A%2F%2Fca-p2p.engagingnetworks.app%2F23125%2Fbfks2022&amp\;data=04%7C01%7CAllie.Mayer%40bbbsofsouthernmn.org%7Cb87f2fa34e254755d39508da11acd676%7Cbad5dcad514b4028bb6d93efbcffe741%7C0%7C0%7C637841731275268259%7CUnknown%7CTWFpbGZsb3d8eyJWIjoiMC4wLjAwMDAiLCJQIjoiV2luMzIiLCJBTiI6Ik1haWwiLCJXVCI6Mn0%3D%7C3000&amp\;sdata=nMYR4xMQ6iqc61H8bC0tZWEKp98C8hlg6B%2FyiY24Bog%3D&amp\;reserved=0" rel="noopener noreferrer" style="margin: 0px\; padding: 0px\; border: 0px\; font: inherit\; vertical-align: baseline\;" target="_blank">click here</a>&nbsp\;. Call 507-451-5922 to reserve your bowling time.</span></p>\n\n<p style="color: rgb(50\, 49\, 48)\; background-color: rgb(255\, 255\, 255)\; font-size: 11pt\; font-family: Calibri\, sans-serif\; margin: 0px\;"><span style="margin: 0px\; padding: 0px\; border: 0px\; font-style: inherit\; font-variant: inherit\; font-weight: inherit\; font-stretch: inherit\; font-size: 10pt\; line-height: inherit\; font-family: Georgia\, serif\; vertical-align: baseline\; color: inherit\;">&nbsp\;</span></p>\n\n<p style="color: rgb(50\, 49\, 48)\; background-color: rgb(255\, 255\, 255)\; font-size: 11pt\; font-family: Calibri\, sans-serif\; margin: 0px\;"><b style="font-size: 11pt\;"><span style="margin: 0px\; padding: 0px\; border: 0px\; font-style: inherit\; font-variant: inherit\; font-weight: inherit\; font-stretch: inherit\; font-size: 10pt\; line-height: inherit\; font-family: Georgia\, serif\; vertical-align: baseline\; color: inherit\;">Faribault&nbsp\;</span></b><span style="color: inherit\; margin: 0px\; padding: 0px\; border: 0px\; font-style: inherit\; font-variant: inherit\; font-weight: inherit\; font-stretch: inherit\; font-size: 10pt\; line-height: inherit\; font-family: Georgia\, serif\; vertical-align: baseline\;">- Faribowl Bowling Center</span></p>\n\n<p style="color: rgb(50\, 49\, 48)\; background-color: rgb(255\, 255\, 255)\; font-size: 11pt\; font-family: Calibri\, sans-serif\; margin: 0px\;"><b><span style="margin: 0px\; padding: 0px\; border: 0px\; font-style: inherit\; font-variant: inherit\; font-weight: inherit\; font-stretch: inherit\; font-size: 10pt\; line-height: inherit\; font-family: Georgia\, serif\; vertical-align: baseline\; color: inherit\;">Friday\, April 29</span></b></p>\n\n<p style="color: rgb(50\, 49\, 48)\; background-color: rgb(255\, 255\, 255)\; font-size: 11pt\; font-family: Calibri\, sans-serif\; margin: 0px\;"><span style="margin: 0px\; padding: 0px\; border: 0px\; font-style: inherit\; font-variant: inherit\; font-weight: inherit\; font-stretch: inherit\; font-size: 10pt\; line-height: inherit\; font-family: Georgia\, serif\; vertical-align: baseline\; color: inherit\;">4:00pm-8:00pm</span></p>\n\n<p style="color: rgb(50\, 49\, 48)\; background-color: rgb(255\, 255\, 255)\; font-size: 11pt\; font-family: Calibri\, sans-serif\; margin: 0px\;"><span style="margin: 0px\; padding: 0px\; border: 0px\; font-style: inherit\; font-variant: inherit\; font-weight: inherit\; font-stretch: inherit\; font-size: 10pt\; line-height: inherit\; font-family: Georgia\, serif\; vertical-align: baseline\; color: inherit\;">&nbsp\;</span></p>\n\n<p style="color: rgb(50\, 49\, 48)\; background-color: rgb(255\, 255\, 255)\; font-size: 11pt\; font-family: Calibri\, sans-serif\; margin: 0px\;"><span style="margin: 0px\; padding: 0px\; border: 0px\; font-style: inherit\; font-variant: inherit\; font-weight: inherit\; font-stretch: inherit\; font-size: 10pt\; line-height: inherit\; font-family: Georgia\, serif\; vertical-align: baseline\; color: inherit\;">See you on the lanes!</span></p>\n
LOCATION:
UID:e.66.18267
SEQUENCE:3
DTSTAMP:20260423T120059Z
URL:https://members.faribaultmn.org/events/details/bowl-for-kids-sake-18267
END:VEVENT

END:VCALENDAR
