BEGIN:VCALENDAR
VERSION:2.0
PRODID:-//ChamberMaster//Event Calendar 2.0//EN
METHOD:PUBLISH
X-PUBLISHED-TTL:P3D
REFRESH-INTERVAL:P3D
CALSCALE:GREGORIAN
BEGIN:VEVENT
DTSTART;VALUE=DATE:20241024
DTEND;VALUE=DATE:20241027
TRANSP:TRANSPARENT
X-MICROSOFT-CDO-ALLDAYEVENT:TRUE
SUMMARY:Cable Connection & Supply – Annual Fall Warehouse Sale
DESCRIPTION:Cable Connection & Supply (CCS) - Annual Fall Warehouse Sale\n\n\n\nOctober 24\, 2024 --  (10 AM - 7 PM)\n\nOctober 25\, 2024 --  (10 AM - 7 PM)\n\nOctober 26\, 2024 --  (9 AM - 1 PM)\n\n\n\n1505 30th Street NW - Faribault\, MN 55021\n\n\n\nSAVE MONEY and find GREAT DEALS at our annual Fall Warehouse Sale! Save up to 70% on new\, overstocked\, items - Hand Tools\, Power Tools\, Bibs\, Jackets\, Equipment\, Boots\, Shirts\, Accessories\, & More!\n\n\n\nA fresh\, new\, selection of items will be on display from industry-leading brands such as Milwaukee\, Carhartt\, DeWalt\, Klein Tools\, Bayco\, Stormtech\, Levi's\, Energizer\, Justin Boots\, Craftsman\, Werner\, Stanley\, and many more!\n\n\n\nAlso available\, while supplies last\, will be blemished items. These items are new and unused\, with imperfections\, stains\, or defects from the manufacturer. Mix of pants\, coveralls\, shirts\, shorts\, jackets\, and hoodies. Limited sizes and colors available at HEAVILY REDUCED PRICING.\n\n\n\nOur fall sale is sponsored by Milwaukee Tools   there will be a LARGE selection of Milwaukee Power & Hand Tools at this sale.
X-ALT-DESC;FMTTYPE=text/html:<span style="color:rgb(5\, 5\, 5)\; font-family:segoe ui historic\,segoe ui\,helvetica\,arial\,sans-serif\; font-size:15px">Cable Connection &amp\; Supply (CCS) - Annual Fall Warehouse Sale</span><br />\n<br />\n<span style="color:rgb(5\, 5\, 5)\; font-family:segoe ui historic\,segoe ui\,helvetica\,arial\,sans-serif\; font-size:15px">October 24\, 2024 --&gt\; (10 AM - 7 PM)</span><br />\n<span style="color:rgb(5\, 5\, 5)\; font-family:segoe ui historic\,segoe ui\,helvetica\,arial\,sans-serif\; font-size:15px">October 25\, 2024 --&gt\; (10 AM - 7 PM)</span><br />\n<span style="color:rgb(5\, 5\, 5)\; font-family:segoe ui historic\,segoe ui\,helvetica\,arial\,sans-serif\; font-size:15px">October 26\, 2024 --&gt\; (9 AM - 1 PM)</span><br />\n<br />\n<span style="color:rgb(5\, 5\, 5)\; font-family:segoe ui historic\,segoe ui\,helvetica\,arial\,sans-serif\; font-size:15px">1505 30th Street NW - Faribault\, MN 55021</span><br />\n<br />\n<span style="color:rgb(5\, 5\, 5)\; font-family:segoe ui historic\,segoe ui\,helvetica\,arial\,sans-serif\; font-size:15px">SAVE MONEY and find GREAT DEALS at our annual Fall Warehouse Sale! Save up to 70% on new\, overstocked\, items - Hand Tools\, Power Tools\, Bibs\, Jackets\, Equipment\, Boots\, Shirts\, Accessories\, &amp\; More!</span><br />\n<br />\n<span style="color:rgb(5\, 5\, 5)\; font-family:segoe ui historic\,segoe ui\,helvetica\,arial\,sans-serif\; font-size:15px">A fresh\, new\, selection of items will be on display from industry-leading brands such as Milwaukee\, Carhartt\, DeWalt\, Klein Tools\, Bayco\, Stormtech\, Levi&rsquo\;s\, Energizer\, Justin Boots\, Craftsman\, Werner\, Stanley\, and many more!</span><br />\n<br />\n<span style="color:rgb(5\, 5\, 5)\; font-family:segoe ui historic\,segoe ui\,helvetica\,arial\,sans-serif\; font-size:15px">Also available\, while supplies last\, will be blemished items. These items are new and unused\, with imperfections\, stains\, or defects from the manufacturer. Mix of pants\, coveralls\, shirts\, shorts\, jackets\, and hoodies. Limited sizes and colors available at HEAVILY REDUCED PRICING.</span><br />\n<br />\n<span style="color:rgb(5\, 5\, 5)\; font-family:segoe ui historic\,segoe ui\,helvetica\,arial\,sans-serif\; font-size:15px">Our fall sale is sponsored by Milwaukee Tools &ndash\; there will be a LARGE selection of Milwaukee Power &amp\; Hand Tools at this sale.</span>
LOCATION:1505 30th Street NW - Faribault\, MN 55021
UID:e.66.20366
SEQUENCE:3
DTSTAMP:20260423T084456Z
URL:https://members.faribaultmn.org/events/details/cable-connection-supply-annual-fall-warehouse-sale-20366
END:VEVENT

END:VCALENDAR
