BEGIN:VCALENDAR
VERSION:2.0
PRODID:-//ChamberMaster//Event Calendar 2.0//EN
METHOD:PUBLISH
X-PUBLISHED-TTL:P3D
REFRESH-INTERVAL:P3D
CALSCALE:GREGORIAN
BEGIN:VEVENT
DTSTART:20220207T183000Z
DTEND:20220207T190000Z
X-MICROSOFT-CDO-ALLDAYEVENT:FALSE
SUMMARY:Chakra Healing Using Crystals & Essential Oils Webinar
DESCRIPTION:The word "chakra" comes from Sanskrit\, and means "disk" or "wheel." Chakras are energy centers in the body that correlate to certain emotional functions\, and to certain nerve bundles and major organs in the body.\n\nIt's important to keep your chakras open and energy flowing smoothly. Otherwise\, they may become blocked and cause physical or emotional issues.\n\nSome people turn to aromatherapy to balance their chakras. They use essential oils to recalibrate their body's energy centers and reset their frequencies.\n\n\n\nClick here to register for this free webinar. This class will be done in webinar mode on Zoom and you won't be able to see other participants.
X-ALT-DESC;FMTTYPE=text/html:<p>The word &ldquo\;chakra&rdquo\; comes from Sanskrit\, and means &ldquo\;disk&rdquo\; or &ldquo\;wheel.&rdquo\; Chakras are energy centers in the body that correlate to certain emotional functions\, and to certain nerve bundles and major organs in the body.</p>\n\n<p>It&rsquo\;s important to keep your chakras open and energy flowing smoothly. Otherwise\, they may become blocked and cause physical or emotional issues.</p>\n\n<p>Some people turn to aromatherapy to balance their chakras. They use essential oils to recalibrate their body&rsquo\;s energy centers and reset their frequencies.<br />\n<br />\n<a href="https://bnionline.zoom.us/webinar/register/WN_ReNfPM5SSOGy_Hw3Vi33dg">Click here to register&nbsp\;for this free webinar.</a>&nbsp\;This class will be done in webinar mode on Zoom and you won&#39\;t be able to see other participants.&nbsp\;</p>\n
LOCATION:Zoom Online
UID:e.66.17615
SEQUENCE:3
DTSTAMP:20260423T083019Z
URL:https://members.faribaultmn.org/events/details/chakra-healing-using-crystals-essential-oils-webinar-17615
END:VEVENT

END:VCALENDAR
