BEGIN:VCALENDAR
VERSION:2.0
PRODID:-//ChamberMaster//Event Calendar 2.0//EN
METHOD:PUBLISH
X-PUBLISHED-TTL:P3D
REFRESH-INTERVAL:P3D
CALSCALE:GREGORIAN
BEGIN:VEVENT
DTSTART:20181208T180000Z
DTEND:20181208T210000Z
X-MICROSOFT-CDO-ALLDAYEVENT:FALSE
SUMMARY:Christmas Walk at Shattuck-St. Mary's
DESCRIPTION:Come ring in the christmas spirit with us at Shattuck-St. Mary's Noon-3PM. Many fun activities for the whole family: Figure Skating Show at Noon\, Horse Drawn Sleigh\, Crafts\, Cookies & Santa! Welcome to the Public.
X-ALT-DESC;FMTTYPE=text/html:Come ring in the christmas spirit with us at Shattuck-St. Mary&#39\;s Noon-3PM. Many fun activities for the whole family: Figure Skating Show at Noon\, Horse Drawn Sleigh\, Crafts\, Cookies &amp\; Santa! Welcome to the Public.&nbsp\;
LOCATION:Shattuck-St. Mary's School - Upper Campus 1000 Shumway Ave.
UID:e.66.16244
SEQUENCE:3
DTSTAMP:20260423T083608Z
URL:https://members.faribaultmn.org/events/details/christmas-walk-at-shattuck-st-mary-s-16244
END:VEVENT

END:VCALENDAR
