BEGIN:VCALENDAR
VERSION:2.0
PRODID:-//ChamberMaster//Event Calendar 2.0//EN
METHOD:PUBLISH
X-PUBLISHED-TTL:P3D
REFRESH-INTERVAL:P3D
CALSCALE:GREGORIAN
BEGIN:VEVENT
DTSTART:20181009T233000Z
DTEND:20181010T003000Z
X-MICROSOFT-CDO-ALLDAYEVENT:FALSE
SUMMARY:Concussions
DESCRIPTION:The conversation around concussions has been on the forefront of healthcare and sports for the past several years. Doctors from a variety of practices are finding that the previous research and after care for concussions may have been short-sighted. Join us in discussing what concussions are\, what short and long-term effects they have\, and what you can do to treat them. This class is for all ages and encouraged for everyone.
X-ALT-DESC;FMTTYPE=text/html:The conversation around concussions has been on the forefront of healthcare and sports for the past several years. Doctors from a variety of practices are finding that the previous research and after care for concussions may have been short-sighted. Join us in discussing what concussions are\, what short and long-term effects they have\, and what you can do to treat them. This class is for all ages and encouraged for everyone.<br />\n<br />\n&nbsp\;
LOCATION:Faribault Middle School 704 17th Street SW Faribault\, MN 55021 Enter Through Door #1
UID:e.66.16214
SEQUENCE:3
DTSTAMP:20260423T111511Z
URL:https://members.faribaultmn.org/events/details/concussions-10-09-2018-16214
END:VEVENT

END:VCALENDAR
