BEGIN:VCALENDAR
VERSION:2.0
PRODID:-//ChamberMaster//Event Calendar 2.0//EN
METHOD:PUBLISH
X-PUBLISHED-TTL:P3D
REFRESH-INTERVAL:P3D
CALSCALE:GREGORIAN
BEGIN:VEVENT
DTSTART:20181103T153000Z
DTEND:20181103T190000Z
X-MICROSOFT-CDO-ALLDAYEVENT:FALSE
SUMMARY:Deck The Halls
DESCRIPTION:District One Hospital Auxiliary Event - Holiday decorating demonstration - Holiday cookies - Vendor shopping - Brunch Proceeds benefit the patient and community health care needs.
X-ALT-DESC;FMTTYPE=text/html:District One Hospital Auxiliary Event - Holiday decorating demonstration - Holiday cookies - Vendor shopping - Brunch Proceeds benefit the patient and community health care needs.
LOCATION:The Inn at Shattuck-Saint Mary's 1000 Shumway Avenue Faribault\, MN 55021
UID:e.66.16224
SEQUENCE:3
DTSTAMP:20260423T095913Z
URL:https://members.faribaultmn.org/events/details/deck-the-halls-16224
END:VEVENT

END:VCALENDAR
