BEGIN:VCALENDAR
VERSION:2.0
PRODID:-//ChamberMaster//Event Calendar 2.0//EN
METHOD:PUBLISH
X-PUBLISHED-TTL:P3D
REFRESH-INTERVAL:P3D
CALSCALE:GREGORIAN
BEGIN:VEVENT
DTSTART:20220715T230000Z
DTEND:20220716T020000Z
X-MICROSOFT-CDO-ALLDAYEVENT:FALSE
SUMMARY:Downtown Car Cruise
DESCRIPTION:Don't miss the Downtown Faribault Car Cruise Nights on May - September! These fun events take place on Central Ave from 6-9pm. Great vehicles\, food\, music and more!\n\nAdditional Dates: June 17\, July 15\, Aug 19\, September 16.\n\nThank you to the sponsors:\n\nOur Platinum Sponsors:\n\nHarry Browns\n\nTrystar\n\nOur Gold Sponsors:\n\nState Bank\n\nMalecha's Auto\n\nEdina\n\nHometown Credit Union\n\nAnd our Silver Sponsors:\n\nABC Companies\n\nFaribault Transportation\n\nC & S Vending\n\nCommunity Coop\n\nCrown Cork and Seal\n\nMidwest Collision\n\nRiver City Refrigeration\n\nNorthfield Hospital and Clinic\n\nComp Care\n\nTownsquare Media\n\nJonathan Wood Construction\n\nDrag On's Car Club\n\nA & W Restaurant\n\nGlenn's Towing\n\nJoe's Sports Caf
X-ALT-DESC;FMTTYPE=text/html:<div class="kvgmc6g5 cxmmr5t8 oygrvhab hcukyx3x c1et5uql" style="overflow-wrap: break-word\; margin: 0px\; font-family: &quot\;Segoe UI Historic&quot\;\, &quot\;Segoe UI&quot\;\, Helvetica\, Arial\, sans-serif\; color: rgb(5\, 5\, 5)\; font-size: 15px\; background-color: rgb(255\, 255\, 255)\;">Don&rsquo\;t miss the Downtown Faribault Car Cruise Nights on May - September! These fun events take place on Central Ave from 6-9pm. Great vehicles\, food\, music and more!</div>\n\n<div class="cxmmr5t8 oygrvhab hcukyx3x c1et5uql o9v6fnle" style="overflow-wrap: break-word\; margin: 0.5em 0px 0px\; font-family: &quot\;Segoe UI Historic&quot\;\, &quot\;Segoe UI&quot\;\, Helvetica\, Arial\, sans-serif\; color: rgb(5\, 5\, 5)\; font-size: 15px\; background-color: rgb(255\, 255\, 255)\;">Additional Dates: June 17\, July 15\, Aug 19\, September 16.</div>\n\n<div class="cxmmr5t8 oygrvhab hcukyx3x c1et5uql o9v6fnle" style="overflow-wrap: break-word\; margin: 0.5em 0px 0px\; font-family: &quot\;Segoe UI Historic&quot\;\, &quot\;Segoe UI&quot\;\, Helvetica\, Arial\, sans-serif\; color: rgb(5\, 5\, 5)\; font-size: 15px\; background-color: rgb(255\, 255\, 255)\;">Thank you to the sponsors:<br />\nOur Platinum Sponsors:<br />\nHarry Browns<br />\nTrystar</div>\n\n<div class="cxmmr5t8 oygrvhab hcukyx3x c1et5uql o9v6fnle" style="overflow-wrap: break-word\; margin: 0.5em 0px 0px\; font-family: &quot\;Segoe UI Historic&quot\;\, &quot\;Segoe UI&quot\;\, Helvetica\, Arial\, sans-serif\; color: rgb(5\, 5\, 5)\; font-size: 15px\; background-color: rgb(255\, 255\, 255)\;">Our Gold Sponsors:<br />\nState Bank<br />\nMalecha&#39\;s Auto<br />\nEdina<br />\nHometown Credit Union</div>\n\n<div class="cxmmr5t8 oygrvhab hcukyx3x c1et5uql o9v6fnle" style="overflow-wrap: break-word\; margin: 0.5em 0px 0px\; font-family: &quot\;Segoe UI Historic&quot\;\, &quot\;Segoe UI&quot\;\, Helvetica\, Arial\, sans-serif\; color: rgb(5\, 5\, 5)\; font-size: 15px\; background-color: rgb(255\, 255\, 255)\;">And our Silver Sponsors:<br />\nABC Companies<br />\nFaribault Transportation<br />\nC &amp\; S Vending<br />\nCommunity Coop<br />\nCrown Cork and Seal<br />\nMidwest Collision<br />\nRiver City Refrigeration<br />\nNorthfield Hospital and Clinic<br />\nComp Care<br />\nTownsquare Media<br />\nJonathan Wood Construction<br />\nDrag On&#39\;s Car Club<br />\nA &amp\; W Restaurant<br />\nGlenn&#39\;s Towing<br />\nJoe&#39\;s Sports Caf&eacute\;</div>\n
LOCATION:
UID:e.66.18288
SEQUENCE:3
DTSTAMP:20260421T225621Z
URL:https://members.faribaultmn.org/events/details/downtown-car-cruise-07-15-2022-18288
END:VEVENT

END:VCALENDAR
