BEGIN:VCALENDAR
VERSION:2.0
PRODID:-//ChamberMaster//Event Calendar 2.0//EN
METHOD:PUBLISH
X-PUBLISHED-TTL:P3D
REFRESH-INTERVAL:P3D
CALSCALE:GREGORIAN
BEGIN:VEVENT
DTSTART:20181027T150000Z
DTEND:20181027T170000Z
X-MICROSOFT-CDO-ALLDAYEVENT:FALSE
SUMMARY:Essential Oils Make & Take
DESCRIPTION:In this class we will be talking about the many uses of essential oils in combating everything from the common cold and cough to immune support and sanitizers. If you'd like to learn how to use oils to make your own cold season support products\, join us! We will be highlighting a homemade honey cough syrup\, a chest rub\, an immunity support oil roller\, and hand sanitizer. Make & Take one or all four. Each item will be $5\, all supplies will be provided.
X-ALT-DESC;FMTTYPE=text/html:<span style="font-family:arial\,sans-serif"><span style="font-size:9.0pt">In this class we will be talking about the many uses of essential oils in combating everything from the common cold and cough to immune support and sanitizers. If you&rsquo\;d like to learn how to use oils to make your own cold season support products\, join us! We will be highlighting a homemade honey cough syrup\, a chest rub\, an immunity support oil roller\, and hand sanitizer. Make &amp\; Take one or all four. <strong>Each item will be $5\, all supplies will be provided.&nbsp\;</strong></span></span>
LOCATION:Humfeld Chiropractic & Nutrition Center 119 Central Ave Faribault\, MN 55021
UID:e.66.16220
SEQUENCE:3
DTSTAMP:20260423T111629Z
URL:https://members.faribaultmn.org/events/details/essential-oils-make-take-10-27-2018-16220
END:VEVENT

END:VCALENDAR
