BEGIN:VCALENDAR
VERSION:2.0
PRODID:-//ChamberMaster//Event Calendar 2.0//EN
METHOD:PUBLISH
X-PUBLISHED-TTL:P3D
REFRESH-INTERVAL:P3D
CALSCALE:GREGORIAN
BEGIN:VEVENT
DTSTART;VALUE=DATE:20201208
DTEND;VALUE=DATE:20201224
TRANSP:TRANSPARENT
X-MICROSOFT-CDO-ALLDAYEVENT:TRUE
SUMMARY:Faribault Falala Lights
DESCRIPTION:The Faribault FaLaLa Lighting Display is new to Faribault\, but allows creative homeowners to show off their holiday spirit and hard work! Viewing starts on Dec. 8\, and will end at 6 P.M. on Dec 22nd. Click here to see the map of participating locations.
X-ALT-DESC;FMTTYPE=text/html:<span style="color: rgb(30\, 30\, 30)\; font-family: &quot\;Noto Serif&quot\;\; font-size: 16px\; white-space: pre-wrap\;">The Faribault FaLaLa Lighting Display is new to Faribault\, but allows creative homeowners to show off their holiday spirit and hard work! Viewing starts on Dec. 8\, and will end at 6 P.M. on Dec 22nd. </span><span style="font-weight: 600\; box-sizing: inherit\; color: rgb(30\, 30\, 30)\; font-family: &quot\;Noto Serif&quot\;\; font-size: 16px\; white-space: pre-wrap\;"><a href="https://www.google.com/maps/d/viewer?mid=1f-aGQzImxflisvWGLclwx_hoiYxcphwC&amp\;fbclid=IwAR12S14c6fJpBT4B8Pgq0dPXs39r855qhJ-nucRAuvZnbb3b3Bz4CrtdxC8&amp\;ll=44.273565186777965%2C-93.30089229142115&amp\;z=12" style="color: rgb(0\, 115\, 170)\; transition: none 0s ease 0s\; outline: 0px\; box-sizing: inherit\;">Click here to see the map of participating locations. </a></span>
LOCATION:
UID:e.66.17296
SEQUENCE:3
DTSTAMP:20260420T085820Z
URL:https://members.faribaultmn.org/events/details/faribault-falala-lights-17296
END:VEVENT

END:VCALENDAR
