BEGIN:VCALENDAR
VERSION:2.0
PRODID:-//ChamberMaster//Event Calendar 2.0//EN
METHOD:PUBLISH
X-PUBLISHED-TTL:P3D
REFRESH-INTERVAL:P3D
CALSCALE:GREGORIAN
BEGIN:VEVENT
DTSTART:20220425T140000Z
DTEND:20220425T230000Z
X-MICROSOFT-CDO-ALLDAYEVENT:FALSE
SUMMARY:Gently Used Accessory Sale
DESCRIPTION:Gently Used Accessory Sale is coming soon. Mark your calendars for Monday\, April 25th and Tuesday\, April 26th from 9:00 AM to 6:00 PM. Hundreds of jewelry\, purses\, scarves and other items are available at very low prices. There will also be HOT SALE items from the Angel's Attic Gift Shop. Proceeds from this event will benefit community health needs and needs at our hospital.
X-ALT-DESC;FMTTYPE=text/html:Gently Used Accessory Sale is coming soon. Mark your calendars for Monday\, April 25th and Tuesday\, April 26th from 9:00 AM to 6:00 PM. Hundreds of jewelry\, purses\, scarves and other items are available at very low prices. There will also be HOT SALE items from the Angel&#39\;s Attic Gift Shop. Proceeds from this event will benefit community health needs and needs at our hospital.
LOCATION:American Legion\, 112 5th Street Northeast in Faribault Minnesota.
UID:e.66.18263
SEQUENCE:3
DTSTAMP:20260423T115849Z
URL:https://members.faribaultmn.org/events/details/gently-used-accessory-sale-04-25-2022-18263
END:VEVENT

END:VCALENDAR
