BEGIN:VCALENDAR
VERSION:2.0
PRODID:-//ChamberMaster//Event Calendar 2.0//EN
METHOD:PUBLISH
X-PUBLISHED-TTL:P3D
REFRESH-INTERVAL:P3D
CALSCALE:GREGORIAN
BEGIN:VEVENT
DTSTART:20220426T140000Z
DTEND:20220426T230000Z
X-MICROSOFT-CDO-ALLDAYEVENT:FALSE
SUMMARY:Gently Used Accessory Sale
DESCRIPTION:Gently Used Accessory Sale is coming soon. Mark your calendars for Monday\, April 25th and Tuesday\, April 26th from 9:00 AM to 6:00 PM. Hundreds of jewelry\, purses\, scarves and other items are available at very low prices. There will also be HOT SALE items from the Angel's Attic Gift Shop. Proceeds from this event will benefit health needs in the community and the needs at our hospital.
X-ALT-DESC;FMTTYPE=text/html:Gently Used Accessory Sale is coming soon. Mark your calendars for Monday\, April 25th and Tuesday\, April 26th from 9:00 AM to 6:00 PM. Hundreds of jewelry\, purses\, scarves and other items are available at very low prices. There will also be HOT SALE items from the Angel&#39\;s Attic Gift Shop. Proceeds from this event will benefit health needs in the community and the needs at our hospital.
LOCATION:American Legion 112 5th Street Northeast Faribault\, MN 55021
UID:e.66.18264
SEQUENCE:3
DTSTAMP:20260423T121157Z
URL:https://members.faribaultmn.org/events/details/gently-used-accessory-sale-04-26-2022-18264
END:VEVENT

END:VCALENDAR
