BEGIN:VCALENDAR
VERSION:2.0
PRODID:-//ChamberMaster//Event Calendar 2.0//EN
METHOD:PUBLISH
X-PUBLISHED-TTL:P3D
REFRESH-INTERVAL:P3D
CALSCALE:GREGORIAN
BEGIN:VEVENT
DTSTART:20201218T013000Z
DTEND:20201218T050000Z
X-MICROSOFT-CDO-ALLDAYEVENT:FALSE
SUMMARY:Grand Ole Opry with Memphis & The Meantimes
DESCRIPTION:Mick Sterling's Memphis & the Meantimes returns to the Paradise for a Grand Ole Opry Christmas. We are excited to bring them back for this special one-of-kind performance featuring songs from Cash\, Haggard\, Lewis\, Orbison\, Elvis and many others. A Grand Ole Opry Christmas is joyful holiday celebration of Christmas music and classic American country. Thank you to show sponsor Reliance Bank!
X-ALT-DESC;FMTTYPE=text/html:Mick Sterling&rsquo\;s Memphis &amp\; the Meantimes returns to the Paradise for a Grand Ole Opry Christmas. We are excited to bring them back for this special one-of-kind performance featuring songs from Cash\, Haggard\, Lewis\, Orbison\, Elvis and many others. A Grand Ole Opry Christmas is joyful holiday celebration of Christmas music and classic American country. Thank you to show sponsor Reliance Bank!
LOCATION:Paradise Center for the Arts\, 321 Central Ave\, Faribault
UID:e.66.17286
SEQUENCE:3
DTSTAMP:20260422T090359Z
URL:https://members.faribaultmn.org/events/details/grand-ole-opry-with-memphis-the-meantimes-17286
END:VEVENT

END:VCALENDAR
