BEGIN:VCALENDAR
VERSION:2.0
PRODID:-//ChamberMaster//Event Calendar 2.0//EN
METHOD:PUBLISH
X-PUBLISHED-TTL:P3D
REFRESH-INTERVAL:P3D
CALSCALE:GREGORIAN
BEGIN:VEVENT
DTSTART:20240304T150000Z
DTEND:20240304T170000Z
X-MICROSOFT-CDO-ALLDAYEVENT:FALSE
SUMMARY:Guided Batik Lab with Tami Resler
DESCRIPTION:Whether you're a beginner or have worked with batik and just want some guidance\, join us as we use wax and dyes to create beautiful and fun pieces of art on fabric. Tami will be there to provide instruction\, but this is a drop-in opportunity\, so you can come one or each day and just pay for the day you are there! Supplies are provided. Wear clothing that can get stained. Instructor: Tami Resler
X-ALT-DESC;FMTTYPE=text/html:<span style="background-color:rgb(255\, 255\, 255)\; color:rgb(17\, 17\, 17)\; font-family:roboto\,roboto fallback\; font-size:18px">Whether you&#39\;re a beginner or have worked with batik and just want some guidance\, join us as we use wax and dyes to create beautiful and fun pieces of art on fabric. Tami will be there to provide instruction\, but this is a drop-in opportunity\, so you can come one or each day and just pay for the day you are there! Supplies are provided. Wear clothing that can get stained. Instructor: Tami Resler</span>
LOCATION:Paradise Center for the Arts 321 Central Avenue N Faribault\, MN 55021
UID:e.66.20238
SEQUENCE:3
DTSTAMP:20260420T051929Z
URL:https://members.faribaultmn.org/events/details/guided-batik-lab-with-tami-resler-20238
END:VEVENT

END:VCALENDAR
