BEGIN:VCALENDAR
VERSION:2.0
PRODID:-//ChamberMaster//Event Calendar 2.0//EN
METHOD:PUBLISH
X-PUBLISHED-TTL:P3D
REFRESH-INTERVAL:P3D
CALSCALE:GREGORIAN
BEGIN:VEVENT
DTSTART:20181207T000000Z
DTEND:20181207T010000Z
X-MICROSOFT-CDO-ALLDAYEVENT:FALSE
SUMMARY:Health Talk Series at Erickson Chiropractic
DESCRIPTION:Health Talk Series at Erickson Chiropractic.\n\nStress and Illness is the topic
X-ALT-DESC;FMTTYPE=text/html:Health Talk Series at Erickson Chiropractic.<br />\nStress and Illness is the topic&nbsp\;&nbsp\;&nbsp\;&nbsp\;&nbsp\;<br />\n&nbsp\;&nbsp\;&nbsp\;
LOCATION:Two Rivers Health Center
UID:e.66.16236
SEQUENCE:3
DTSTAMP:20260423T100116Z
URL:https://members.faribaultmn.org/events/details/health-talk-series-at-erickson-chiropractic-16236
END:VEVENT

END:VCALENDAR
