BEGIN:VCALENDAR
VERSION:2.0
PRODID:-//ChamberMaster//Event Calendar 2.0//EN
METHOD:PUBLISH
X-PUBLISHED-TTL:P3D
REFRESH-INTERVAL:P3D
CALSCALE:GREGORIAN
BEGIN:VEVENT
DTSTART:20201207T171500Z
DTEND:20201207T194500Z
X-MICROSOFT-CDO-ALLDAYEVENT:FALSE
SUMMARY:Holiday Food Drive
DESCRIPTION:Monarch Healthcare Management and Moments Hospice are launching a joint initiative to restock Minnesota's food pantries for the holiday season.  Moments Hospice will be traveling across the state and hosting food drives at Monarch Healthcare Management facilities for both staff and community members to contribute to local food banks. \n\nThe Moments Hospice trailer will be in Faribault\, MN on December 7th\, 2020. First stopping at Pleasant Manor from 11:15am   12:45pm and then The Emeralds at Faribault from 12:55pm to 1:45pm.  Donations will be made to local families in need. \n\nCommunity members who are interested in dropping off non-perishable foods or household items are welcome to drive up and drop off donations at the trailer\, while maintaining safe social distancing practices. Raffle prizes will be awarded to both staff and the public for donations received.\n\nFor additional information\, please contact:  Eric Lind at elind@monarchmn.com
X-ALT-DESC;FMTTYPE=text/html:Monarch Healthcare Management and Moments Hospice are launching a joint initiative to restock Minnesota&rsquo\;s food pantries for the holiday season.&nbsp\; Moments Hospice will be traveling across the state and hosting food drives at Monarch Healthcare Management facilities for both staff and community members to contribute to local food banks.&nbsp\;<br />\nThe Moments Hospice trailer will be in Faribault\, MN on December 7<sup>th</sup>\, 2020. First stopping at Pleasant Manor from 11:15am &ndash\; 12:45pm and then The Emeralds at Faribault from 12:55pm to 1:45pm.&nbsp\; Donations will be made to local families in need.&nbsp\;<br />\nCommunity members who are interested in dropping off non-perishable foods or household items are welcome to drive up and drop off donations at the trailer\, while maintaining safe social distancing practices. Raffle prizes will be awarded to both staff and the public for donations received.<br />\nFor additional information\, please contact:&nbsp\; Eric Lind at elind@monarchmn.com
LOCATION:Pleasant Manor: 11:15a-12:45p The Emeralds at Faribault: 12:45p-1:45p
UID:e.66.17292
SEQUENCE:3
DTSTAMP:20260420T125803Z
URL:https://members.faribaultmn.org/events/details/holiday-food-drive-17292
END:VEVENT

END:VCALENDAR
