BEGIN:VCALENDAR
VERSION:2.0
PRODID:-//ChamberMaster//Event Calendar 2.0//EN
METHOD:PUBLISH
X-PUBLISHED-TTL:P3D
REFRESH-INTERVAL:P3D
CALSCALE:GREGORIAN
BEGIN:VEVENT
DTSTART:20220308T180000Z
DTEND:20220308T190000Z
X-MICROSOFT-CDO-ALLDAYEVENT:FALSE
SUMMARY:HR/Manufacturing/Agribusiness Peer Group
DESCRIPTION:Join us at NOON on March 8th at the Chamber to learn about the new Future Forward Portal\, new efforts to get you connected with student prospects and the latest news on workforce housing efforts. \n\n\n\nYou'll also have a chance to share your latest opportunities with peers and the Chamber to see where we can best focus efforts for the rest of 2022.\n\n \n\nBring a bag lunch or place your order with Casie for $10 and it will be here waiting for you!\n\n \n\nPlease RSVP to casie@faribaultmn.org
X-ALT-DESC;FMTTYPE=text/html:<strong>Join us at NOON on March 8<sup>th</sup>&nbsp\;at the Chamber to learn about the new Future Forward Portal\, new efforts to get you connected with student prospects and the latest news on workforce housing efforts.&nbsp\;</strong><br />\n<br />\nYou&rsquo\;ll also have a chance to share your latest opportunities with peers and the Chamber to see where we can best focus efforts for the rest of 2022.<br />\n&nbsp\;<br />\nBring a bag lunch or place your order with Casie for $10 and it will be here waiting for you!<br />\n&nbsp\;<br />\nPlease RSVP to <a href="mailto:casie@faribaultmn.org">casie@faribaultmn.org</a><br />\n&nbsp\;
LOCATION:530 Wilson Avenue Faribault\, MN 55021
UID:e.66.17619
SEQUENCE:3
DTSTAMP:20260423T095723Z
URL:https://members.faribaultmn.org/events/details/hr-manufacturing-agribusiness-peer-group-17619
END:VEVENT

END:VCALENDAR
