BEGIN:VCALENDAR
VERSION:2.0
PRODID:-//ChamberMaster//Event Calendar 2.0//EN
METHOD:PUBLISH
X-PUBLISHED-TTL:P3D
REFRESH-INTERVAL:P3D
CALSCALE:GREGORIAN
BEGIN:VEVENT
DTSTART:20220210T010000Z
DTEND:20220210T020000Z
X-MICROSOFT-CDO-ALLDAYEVENT:FALSE
SUMMARY:I Have Lucy's Little Black Book & I'm teaching a class for THAT
DESCRIPTION:I have Lucy's little Black Book and I'm teaching a class for THAT!\n\n\n\n"THAT" includes\n\n*SELF LOVE\n\n*HORMOMONE BALANCE\n\n*LIBIDO OILS FOR HER\n\n*LIBIDO OILS FOR HIM\n\n\n\nClick here to register for this free webinar. This class will be done in webinar mode on Zoom and you won't be able to see other participants.
X-ALT-DESC;FMTTYPE=text/html:<h2 style="font-style:italic">I have Lucy&#39\;s little Black Book and I&#39\;m teaching a class for THAT!</h2>\n\n<p><br />\n&quot\;THAT&quot\; includes<br />\n*SELF LOVE<br />\n*HORMOMONE BALANCE<br />\n*LIBIDO OILS FOR HER<br />\n*LIBIDO OILS FOR HIM<br />\n<br />\n<a href="https://bnionline.zoom.us/webinar/register/WN_lMhEJ41nSVOYS56EDNYbdQ">Click here to register&nbsp\;for this free webinar.</a>&nbsp\;This class will be done in webinar mode on Zoom and you won&#39\;t be able to see other participants.&nbsp\;</p>\n
LOCATION:Online on Zoom.
UID:e.66.17613
SEQUENCE:3
DTSTAMP:20260423T100344Z
URL:https://members.faribaultmn.org/events/details/i-have-lucy-s-little-black-book-i-m-teaching-a-class-for-that-17613
END:VEVENT

END:VCALENDAR
