BEGIN:VCALENDAR
VERSION:2.0
PRODID:-//ChamberMaster//Event Calendar 2.0//EN
METHOD:PUBLISH
X-PUBLISHED-TTL:P3D
REFRESH-INTERVAL:P3D
CALSCALE:GREGORIAN
BEGIN:VEVENT
DTSTART:20181005T010000Z
DTEND:20181005T020000Z
X-MICROSOFT-CDO-ALLDAYEVENT:FALSE
SUMMARY:Immune System Support Webinar
DESCRIPTION:With the cold and flu season approaching\, join us in a discussion of how to strengthen and support your immune system. We will discuss things in everyday life that work to challenge and suppress the immune system\, how to identify those things in your life\, and how to prepare your body to combat illness due to these challenges.
X-ALT-DESC;FMTTYPE=text/html:With the cold and flu season approaching\, join us in a discussion of how to strengthen and support your immune system. We will discuss things in everyday life that work to challenge and suppress the immune system\, how to identify those things in your life\, and how to prepare your body to combat illness due to these challenges.
LOCATION:Onlne Zoom Webinar Instructions https://zoom.us Meeting ID# 280-990-5425 Or join by phone call: Dial +1-415-762-9988 Enter in Meeting ID# (listed above)
UID:e.66.16213
SEQUENCE:3
DTSTAMP:20260423T094419Z
URL:https://members.faribaultmn.org/events/details/immune-system-support-webinar-16213
END:VEVENT

END:VCALENDAR
