BEGIN:VCALENDAR
VERSION:2.0
PRODID:-//ChamberMaster//Event Calendar 2.0//EN
METHOD:PUBLISH
X-PUBLISHED-TTL:P3D
REFRESH-INTERVAL:P3D
CALSCALE:GREGORIAN
BEGIN:VEVENT
DTSTART:20210121T180000Z
DTEND:20210121T190000Z
X-MICROSOFT-CDO-ALLDAYEVENT:FALSE
SUMMARY:Intro to Essential Oils
DESCRIPTION:You have heard about essential oils\, but are not quite sure where to start. In this online event you will learn how to get started safely.\n\n\n\n\n\n\nAbout this Event\n\n\n\n \n\nEssential oils have been used for health and healing for thousands of years. During this online event\, you will learn about the history of essential oils\, how they are made\, the benefits\, and how you can use them in your everyday life. We'll also discuss how essential oils can help you manage stress\, everyday ailments\, and improve your sleep or productivity.\n\n\n\nSign-up using the link below:\n\nhttps://www.eventbrite.com/e/intro-to-essential-oils-tickets-136018126879
X-ALT-DESC;FMTTYPE=text/html:<div>\n<div>\n<div>\n<div><strong>You have heard about essential oils\, but are not quite sure where to start. In this online event you will learn how to get started safely.</strong></div>\n</div>\n</div>\n</div>\n\n<div>\n<div>\n<h2>About this Event</h2>\n\n<div>\n<div>\n<p>&nbsp\;</p>\n\n<p>Essential oils have been used for health and healing for thousands of years. During this online event\, you will learn about the history of essential oils\, how they are made\, the benefits\, and how you can use them in your everyday life. We&#39\;ll also discuss how essential oils can help you manage stress\, everyday ailments\, and improve your sleep or productivity.<br />\n<br />\nSign-up using the link below:<br />\nhttps://www.eventbrite.com/e/intro-to-essential-oils-tickets-136018126879</p>\n</div>\n</div>\n</div>\n</div>\n
LOCATION:www.eventbrite.com
UID:e.66.17300
SEQUENCE:3
DTSTAMP:20260422T120626Z
URL:https://members.faribaultmn.org/events/details/intro-to-essential-oils-17300
END:VEVENT

END:VCALENDAR
