BEGIN:VCALENDAR
VERSION:2.0
PRODID:-//ChamberMaster//Event Calendar 2.0//EN
METHOD:PUBLISH
X-PUBLISHED-TTL:P3D
REFRESH-INTERVAL:P3D
CALSCALE:GREGORIAN
BEGIN:VEVENT
DTSTART:20220204T211500Z
DTEND:20220204T221500Z
X-MICROSOFT-CDO-ALLDAYEVENT:FALSE
SUMMARY:Meet & Greet with Gubernatorial Candidate: Paul Gazelka
DESCRIPTION:You are invited to join us as we host Senate Majority Leader\, and Gubernatorial Candidate\, Paul Gazelka for a Q/A session: Friday\, February 4th at 3:15 PM at South Central College (1225 3rd St SW\, Faribault\, MN 55021)\n\n \n\nKelcey Woods-Nord of South Central College and Superintendent Todd Sesker will be sharing the latest updates on the new H2C Pathways in Health and MEC (Machine\, Engineering and Construction Trades) Pathways and hear Senator Gazelka as well. His key issues are:\n\nPublic Safety\, The Economy and Education. You can learn more about these issues\, by visiting his website: https://link.edgepilot.com/s/d77d310e/U7NRQhJxT0mhlICt69IJCA?u=https://gazelkaforgovernor.com/\n\n \n\nRSVP required to: casie@faribaultmn.org no later than 12N\, Friday\, February 4\n\nPlease note: Face masks are required throughout South Central College's Faribault Campus\, based on CDC guidance for masking indoors in regions with substantial to high levels of COVID-19 transmission. Neck Gators and Bandanas are not allowed to be used as face coverings. Click here for more information.\n\n \n\nDisclaimer: This hosting is not an endorsement for any political candidate
X-ALT-DESC;FMTTYPE=text/html:<strong><span style="font-size:16px\;">You are invited to join us as we host Senate Majority Leader\, and Gubernatorial Candidate\, Paul Gazelka for a Q/A session: Friday\, February 4th at 3:15 PM at South Central College (1225 3rd St SW\, Faribault\, MN 55021)</span></strong><br />\n&nbsp\;<br />\nKelcey Woods-Nord of South Central College and Superintendent Todd Sesker will be sharing the latest updates on the new H2C Pathways in Health and MEC (<strong><u>M</u></strong>achine\, <strong><u>E</u></strong>ngineering and <strong><u>C</u></strong>onstruction Trades) Pathways and hear Senator Gazelka as well. His key issues are:<br />\nPublic Safety\, The Economy and Education. You can learn more about these issues\, by visiting his website: <a href="https://linkprotect.cudasvc.com/url?a=https%3a%2f%2flink.edgepilot.com%2fs%2f25d03c5e%2fMfFmbXLbTkKJ-Uwv4X3ugw%3fu%3dhttps%3a%2f%2flinkprotect.cudasvc.com%2furl%3fa%3dhttps%25253a%25252f%25252fgazelkaforgovernor.com%25252f%2526c%3dE%252C1%252CZTqnyKPhWDMVWJ5tp_KheD6SigbqYi8FfvTqoXxi_EMiq1bTRC4c9MXW8c5NIelkqJTbe8nW9ftBtqafceyAp2946G_AXOgI0prpt9KLET192FnDJhfG2wc%252C%2526typo%3d1&amp\;c=E\,1\,iepKIPn321MPlaKsV-UGOd2Dut1JXPqwMIqNRw2zqbMSRpZqRx6H_0BcTxZV3ylihsT8cRPlIcY7eY55oQ9KUS6KJlcaI02z-9kflihdDHgJu2pfRKgPjg\,\,&amp\;typo=1">https://link.edgepilot.com/s/d77d310e/U7NRQhJxT0mhlICt69IJCA?u=https://gazelkaforgovernor.com/</a><br />\n&nbsp\;<br />\nRSVP required to: <a href="mailto:casie@faribaultmn.org">casie@faribaultmn.org</a> no later than 12N\, Friday\, February 4<br />\nPlease note: Face masks are required throughout South Central College&#39\;s Faribault Campus\, based on CDC guidance for masking indoors in regions with substantial to high levels of COVID-19 transmission. Neck Gators and Bandanas are not allowed to be used as face coverings. <a href="https://linkprotect.cudasvc.com/url?a=https%3a%2f%2flink.edgepilot.com%2fs%2f0f9e7717%2fzbYDQ6E2jkmUPbqCbPZQhw%3fu%3dhttps%3a%2f%2flinkprotect.cudasvc.com%2furl%3fa%3dhttps%25253a%25252f%25252fsouthcentral.edu%25252fAbout%25252fcovid-19.html%2526c%3dE%252C1%252CjIJN3mHxnojHn3c2D1kjl7A3mcboIzHVUfeLjN2ZcrapqUlscuEAhePrUDDbI5z-x6x23iNK9IgcDT_-wFqN88w-8PK2wXjpsP33qoXFv1I%252C%2526typo%3d1&amp\;c=E\,1\,pniElFURaI2ic4Q2Hrthrh4GnvciVv3Lw_KJB1pVpLT_6Lo0Wg-COOQIhEIKx_tpj7vqw10kcemybcd-ARK-dWo2gyLCbr49MVV36MlccYL5IC3q&amp\;typo=1">Click here</a> for more information.<br />\n&nbsp\;<br />\nDisclaimer: This hosting is not an endorsement for any political candidate<br />\n&nbsp\;
LOCATION:South Central College (1225 3rd St SW\, Faribault\, MN 55021)
UID:e.66.17616
SEQUENCE:3
DTSTAMP:20260423T100129Z
URL:https://members.faribaultmn.org/events/details/meet-greet-with-gubernatorial-candidate-paul-gazelka-17616
END:VEVENT

END:VCALENDAR
