BEGIN:VCALENDAR
VERSION:2.0
PRODID:-//ChamberMaster//Event Calendar 2.0//EN
METHOD:PUBLISH
X-PUBLISHED-TTL:P3D
REFRESH-INTERVAL:P3D
CALSCALE:GREGORIAN
BEGIN:VEVENT
DTSTART:20181231T160000Z
DTEND:20181231T220000Z
X-MICROSOFT-CDO-ALLDAYEVENT:FALSE
SUMMARY:New Years Party at Maurices
DESCRIPTION:Come shop on New Years Eve with Maurices in Faribault! Free gift with a $50 purchase\, free reusable tote with a $75 purchase. Entr to win a gift card for Maurices.
X-ALT-DESC;FMTTYPE=text/html:Come shop on New Years Eve with Maurices in Faribault! Free gift with a $50 purchase\, free reusable tote with a $75 purchase. Entr to win a gift card for Maurices.&nbsp\;
LOCATION:
UID:e.66.16287
SEQUENCE:3
DTSTAMP:20260423T083548Z
URL:https://members.faribaultmn.org/events/details/new-years-party-at-maurices-16287
END:VEVENT

END:VCALENDAR
