BEGIN:VCALENDAR
VERSION:2.0
PRODID:-//ChamberMaster//Event Calendar 2.0//EN
METHOD:PUBLISH
X-PUBLISHED-TTL:P3D
REFRESH-INTERVAL:P3D
CALSCALE:GREGORIAN
BEGIN:VEVENT
DTSTART:20181011T230000Z
DTEND:20181012T010000Z
X-MICROSOFT-CDO-ALLDAYEVENT:FALSE
SUMMARY:Open House
DESCRIPTION:Join us for a fun-filled evening at Humfeld Chiropractic & Nutrition Center. We will be showcasing existing\, and new therapists in the office as well as an array of quality health and wellness products. There will be free snacks\, Organo coffee and tea\, Young Living essential oils\, demonstrations of craniosacral therapy\, Nutrition Response Testing\, and much more! If you're curious as to what we do here and how we are helping people regain their health and quality of life\, or if you'd simply like to stop by for some fun\, we would love to see you.
X-ALT-DESC;FMTTYPE=text/html:Join us for a fun-filled evening at Humfeld Chiropractic &amp\; Nutrition Center. We will be showcasing existing\, and new therapists in the office as well as an array of quality health and wellness products. There will be free snacks\, Organo coffee and tea\, Young Living essential oils\, demonstrations of craniosacral therapy\, Nutrition Response Testing\, and much more! If you&rsquo\;re curious as to what we do here and how we are helping people regain their health and quality of life\, or if you&rsquo\;d simply like to stop by for some fun\, we would love to see you.
LOCATION:Humfeld Chiropractic & Nutrition Center 119 Central Ave. Faribault\, MN 55021
UID:e.66.16215
SEQUENCE:3
DTSTAMP:20260423T095055Z
URL:https://members.faribaultmn.org/events/details/open-house-16215
END:VEVENT

END:VCALENDAR
