BEGIN:VCALENDAR
VERSION:2.0
PRODID:-//ChamberMaster//Event Calendar 2.0//EN
METHOD:PUBLISH
X-PUBLISHED-TTL:P3D
REFRESH-INTERVAL:P3D
CALSCALE:GREGORIAN
BEGIN:VEVENT
DTSTART:20181218T223000Z
DTEND:20181218T234500Z
X-MICROSOFT-CDO-ALLDAYEVENT:FALSE
SUMMARY:Open House for Duchene and Rowen
DESCRIPTION:Please join us for an open house farewell reception for outgoing Council Members Kay Duchene\, John Rowan and Steve Underdahl\, whose terms will end on January 7\, 2019. Tuesday\, December 18\, 2018 4:30-5:45 p.m. Council Chambers of City Hall Please come and join us in thanking Council Member Duchene\, Council Member Rowan and Council Member Underdahl for their service to the City of Faribault
X-ALT-DESC;FMTTYPE=text/html:Please join us for an open house farewell reception for outgoing Council Members Kay Duchene\, John Rowan and Steve Underdahl\, whose terms will end on January 7\, 2019. Tuesday\, December 18\, 2018 4:30-5:45 p.m. Council Chambers of City Hall Please come and join us in thanking Council Member Duchene\, Council Member Rowan and Council Member Underdahl for their service to the City of Faribault
LOCATION:
UID:e.66.16285
SEQUENCE:3
DTSTAMP:20260423T094935Z
URL:https://members.faribaultmn.org/events/details/open-house-for-duchene-and-rowen-16285
END:VEVENT

END:VCALENDAR
