BEGIN:VCALENDAR
VERSION:2.0
PRODID:-//ChamberMaster//Event Calendar 2.0//EN
METHOD:PUBLISH
X-PUBLISHED-TTL:P3D
REFRESH-INTERVAL:P3D
CALSCALE:GREGORIAN
BEGIN:VEVENT
DTSTART:20220505T120000Z
DTEND:20220514T160000Z
X-MICROSOFT-CDO-ALLDAYEVENT:FALSE
SUMMARY:Pancake Breakfast
DESCRIPTION:Pregnancy Options LifeCare Center is hosting their 1st All You Can Eat Pancakes Breakfast on Saturday\, May 14th from 7am to 11am at the Faribault Eagles. Join us for breakfast including sausage\, milk\, juice\, coffee and All You Can Eat Pancakes. Tickets are: $10 in advance and $11 at the door\, Children 4-10 $6 and Children 3 and under are free. For additional information please contact Gina at 507-332-7644 or 507-686-0881.
X-ALT-DESC;FMTTYPE=text/html:Pregnancy Options LifeCare Center is hosting their 1st All You Can Eat Pancakes Breakfast on Saturday\, May 14th from 7am to 11am at the Faribault Eagles. Join us for breakfast including sausage\, milk\, juice\, coffee and All You Can Eat Pancakes. Tickets are: $10 in advance and $11 at the door\, Children 4-10 $6 and Children 3 and under are free. For additional information please contact Gina at 507-332-7644 or 507-686-0881.
LOCATION:Faribault Eagles
UID:e.66.18273
SEQUENCE:3
DTSTAMP:20260421T190811Z
URL:https://members.faribaultmn.org/events/details/pancake-breakfast-18273
END:VEVENT

END:VCALENDAR
