BEGIN:VCALENDAR
VERSION:2.0
PRODID:-//ChamberMaster//Event Calendar 2.0//EN
METHOD:PUBLISH
X-PUBLISHED-TTL:P3D
REFRESH-INTERVAL:P3D
CALSCALE:GREGORIAN
BEGIN:VEVENT
DTSTART:20220306T013000Z
DTEND:20220306T031500Z
X-MICROSOFT-CDO-ALLDAYEVENT:FALSE
SUMMARY:PK Mayo
DESCRIPTION:March 5th at 7:30 pm\n\nTicket prices: Non-Member $25/ Member $20/ Student $15\n\n \n\nPK Mayo "AKA' Paul Kennedy Mayasich" originally from Eveleth Minnesota on the Iron Range is a Minnesota Rock and Country Hall Hall of Fame inductee whose career has spanned 35 years of tours on multiple continent's. PK's particular brand of Blues and Americana music\, in addition to his world class skill on guitar and slide guitar has earned him multiple accolades and awards including Minnesota Blues Society Blues performer of the year and Minnesota Music Award: Best Blues Recording for original song: "Arms of the Blues".Accompanying Paul is Noah Levy on Drums (Brian Setzer\, Peter Frampton\, )\, John Wright: Bass guitar (Galactic Cowboy Orchestra\, Mick Sterling) and Steve Lehto (Lehto and Wright\, Mick Sterling).For fans of world class Blues and Americana music this is a show not to be missed.
X-ALT-DESC;FMTTYPE=text/html:<p><strong>March 5th at 7:30 pm</strong></p>\n\n<p><strong>Ticket prices: Non-Member $25/ Member $20/&nbsp\;Student $15</strong></p>\n\n<p>&nbsp\;</p>\n\n<p>PK Mayo &ldquo\;AKA&rsquo\; Paul Kennedy Mayasich&rdquo\; originally from Eveleth Minnesota on the Iron Range is a Minnesota Rock and Country Hall Hall of Fame inductee whose career has spanned 35 years of tours on multiple continent&rsquo\;s. PK&rsquo\;s particular brand of Blues and Americana music\, in addition to his world class skill on guitar and slide guitar has earned him multiple accolades and awards including Minnesota Blues Society Blues performer of the year and Minnesota Music Award: Best Blues Recording for original song: &ldquo\;Arms of the Blues&rdquo\;.Accompanying Paul is Noah Levy on Drums (Brian Setzer\, Peter Frampton\, )\, John Wright: Bass guitar (Galactic Cowboy Orchestra\, Mick Sterling) and Steve Lehto (Lehto and Wright\, Mick Sterling).For fans of world class Blues and Americana music this is a show not to be missed.&nbsp\;&nbsp\;</p>\n
LOCATION:Paradise Center for the Arts 321 Central Avenue Faribault\, MN 55021
UID:e.66.17623
SEQUENCE:3
DTSTAMP:20260423T094446Z
URL:https://members.faribaultmn.org/events/details/pk-mayo-17623
END:VEVENT

END:VCALENDAR
