BEGIN:VCALENDAR
VERSION:2.0
PRODID:-//ChamberMaster//Event Calendar 2.0//EN
METHOD:PUBLISH
X-PUBLISHED-TTL:P3D
REFRESH-INTERVAL:P3D
CALSCALE:GREGORIAN
BEGIN:VEVENT
DTSTART:20241102T170000Z
DTEND:20241102T190000Z
X-MICROSOFT-CDO-ALLDAYEVENT:FALSE
SUMMARY:QUEERY Meetup: Nature Journaling
DESCRIPTION:Please save the date for our November QUEERY meetup! This month\, we'll decorate our notebooks\, learn about the practice of nature journaling\, and go for a hike to get some inspiration for our first journal entries. We'll also learn about a unique type of white-tailed deer that has both male and female characteristics! This session will take place half indoors\, half outdoors. You must complete the signup form to get the exact location for this event.
X-ALT-DESC;FMTTYPE=text/html:Please save the date for our November QUEERY meetup! This month\, we&rsquo\;ll decorate our notebooks\, learn about the practice of nature journaling\, and go for a hike to get some inspiration for our first journal entries. We&rsquo\;ll also learn about a unique type of white-tailed deer that has both male and female characteristics! This session will take place half indoors\, half outdoors. You must complete the signup form to get the exact location for this event.
LOCATION:Faribault\, MN
UID:e.66.20368
SEQUENCE:3
DTSTAMP:20260421T034643Z
URL:https://members.faribaultmn.org/events/details/queery-meetup-nature-journaling-20368
END:VEVENT

END:VCALENDAR
