BEGIN:VCALENDAR
VERSION:2.0
PRODID:-//ChamberMaster//Event Calendar 2.0//EN
METHOD:PUBLISH
X-PUBLISHED-TTL:P3D
REFRESH-INTERVAL:P3D
CALSCALE:GREGORIAN
BEGIN:VEVENT
DTSTART:20181006T210000Z
DTEND:20181007T013000Z
X-MICROSOFT-CDO-ALLDAYEVENT:FALSE
SUMMARY:Ramble
DESCRIPTION:Welcome to River Bend's 37th Annual Ramble Fundraising Dinner. Enjoy a night of good food\, live auction\, raffle drawings and live music while supporting environmental education\, outdoor recreation and Habitat restoration. New this year\, a Local Artisan Market! Come shop local goods during Happy Hour starting at 4:30PM. \n\nTickets are $50/person
X-ALT-DESC;FMTTYPE=text/html:<span style="color:rgb(29\, 33\, 41)\; font-family:helvetica\,arial\,sans-serif\; font-size:14px">Welcome to River Bend&#39\;s 37th Annual Ramble Fundraising Dinner. Enjoy a night of good food\, live auction\, raffle drawings and live music while supporting environmental education\, outdoor recreation and Habitat restoration. New this year\, a Local Artisan Market! Come shop local goods during Happy Hour starting at 4:30PM.&nbsp\;</span><br />\n<span style="color:rgb(29\, 33\, 41)\; font-family:helvetica\,arial\,sans-serif\; font-size:14px">Tickets are $50/person</span>
LOCATION:River Bend Nature Center 1000 Rustad Rd. Faribault\, MN
UID:e.66.16218
SEQUENCE:3
DTSTAMP:20260423T094307Z
URL:https://members.faribaultmn.org/events/details/ramble-16218
END:VEVENT

END:VCALENDAR
