BEGIN:VCALENDAR
VERSION:2.0
PRODID:-//ChamberMaster//Event Calendar 2.0//EN
METHOD:PUBLISH
X-PUBLISHED-TTL:P3D
REFRESH-INTERVAL:P3D
CALSCALE:GREGORIAN
BEGIN:VEVENT
DTSTART:20181115T220000Z
DTEND:20181116T000000Z
X-MICROSOFT-CDO-ALLDAYEVENT:FALSE
SUMMARY:Ruth's House Open House & Give to the Max Day
DESCRIPTION:The public is invited to tour our shelter home and enjoy light refreshments!  Ruth's House provides transitional housing in a safe\, supportive\, and healing enviroment to help women and families on their way to new beginnings.
X-ALT-DESC;FMTTYPE=text/html:The public is invited to tour our shelter home and enjoy light refreshments!&nbsp\; Ruth&#39\;s House provides transitional housing in a safe\, supportive\, and healing enviroment to help women and families on their way to new beginnings.
LOCATION:124 1st Ave SW Faribault
UID:e.66.16227
SEQUENCE:3
DTSTAMP:20260423T100325Z
URL:https://members.faribaultmn.org/events/details/ruth-s-house-open-house-give-to-the-max-day-16227
END:VEVENT

END:VCALENDAR
