BEGIN:VCALENDAR
VERSION:2.0
PRODID:-//ChamberMaster//Event Calendar 2.0//EN
METHOD:PUBLISH
X-PUBLISHED-TTL:P3D
REFRESH-INTERVAL:P3D
CALSCALE:GREGORIAN
BEGIN:VEVENT
DTSTART:20181004T163000Z
DTEND:20181004T180000Z
X-MICROSOFT-CDO-ALLDAYEVENT:FALSE
SUMMARY:South Central SHRM Meeting - Retirement Readiness
DESCRIPTION:Don't forget to register for the October Chapter Meeting which is being held on Thursday\, October 4\, 2018. \n \n\nDate:        October 4\, 2018\n\nTime:       11:30AM - 1:00PM  \n\nLocation:  Owatonna Country Club\n\nAs we start today\, I want to remind you that single moments in time don't define us. Never judge a person by the chapter you walk in on. Take the time to build relationships.\n\n \n\nI don't know about you and your company\, but we have several employees who will be retiring in the next 3-5 years and I am asked several times throughout the week about retirement options.  Our presenter\, Anna Kraemer of Hays companies is going to talk about how we can create confident retirees.\n\n \n\nAnna's presentation is directed at HR business leaders to assist you with creating confident retirees throughout your employee demographics (from those just entering the workforce all the way to those transitioning into retirement). The program focuses on plan design\, employee education\, and basic social security and Medicare strategies.\n\nBy the end of Anna's presentation you should have a better understanding of:\n\n- Key 401(k) plan design features\n\n- Basic medicare and social security strategies\n\n- General guidelines for ensuring employees are financially prepared for retirement.\n\nAnna Kraemer partners with employer groups to establish and maintain state of the art retirement plan programs by focusing on creative and flexible solutions. As part of this role\, Anna helps clients understand and fulfill their fiduciary responsibilities\, while reducing their liability and helping employees prepare for retirement. \nPlease register today.  Click here to register for this event.\n\nGeneral PDC credit is approve\; HRCI credit approval pending.\n\n\n\nHave a great day everyone!
X-ALT-DESC;FMTTYPE=text/html:<span style="font-size:13.33px"><span style="font-family:arial\,helvetica\,sans-serif"><span style="color:#222222"><span style="background-color:transparent">Don&#39\;t forget to register for the October Chapter Meeting which is being held on Thursday\, October 4\, 2018.&nbsp\;</span></span></span></span>\n<div>&nbsp\;</div>\n\n<div><span style="font-family:arial\,helvetica\,sans-serif"><strong>Date:&nbsp\; &nbsp\; &nbsp\; &nbsp\; October 4\, 2018</strong></span><br />\n<span style="font-family:arial\,helvetica\,sans-serif"><strong><span style="color:#000000">Time:&nbsp\; &nbsp\; &nbsp\; &nbsp\;11:30AM - 1:00PM</span>&nbsp\;&nbsp\;</strong></span><br />\n<span style="font-family:arial\,helvetica\,sans-serif"><strong>Location: &nbsp\;Owatonna Country Club</strong></span>\n\n<div>As we start today\, I want to remind you that single moments in time don&#39\;t define us. Never judge a person by the chapter you walk in on. Take the time to build relationships.</div>\n\n<div>&nbsp\;</div>\n\n<div>I don&#39\;t know about you and your company\, but we have several employees who will be retiring in the next 3-5 years and I am asked several times throughout the week about retirement options.&nbsp\; Our presenter\, Anna Kraemer of Hays companies is going to talk about how we can create confident retirees.</div>\n\n<div>&nbsp\;</div>\n\n<div><span style="font-family:arial\,sans-serif">Anna&#39\;s presentation is directed at HR business leaders to assist you with creating confident retirees throughout your employee demographics (from those just entering the workforce all the way to those transitioning into retirement). The program focuses on plan design\, employee education\, and basic social security and Medicare strategies.</span></div>\n\n<div>By the end of Anna&#39\;s presentation you should have a better understanding of:<br />\n- Key 401(k) plan design features<br />\n- Basic medicare and social security strategies<br />\n- General guidelines for ensuring employees are financially prepared for retirement.<br />\nAnna Kraemer partners with employer groups to establish and maintain state of the art retirement plan programs by focusing on creative and flexible solutions. As part of this role\, Anna helps clients understand and fulfill their fiduciary responsibilities\, while reducing their liability and helping employees prepare for retirement.&nbsp\;\n<div><strong><span style="font-family:arial\,helvetica\,sans-serif">Please register today.&nbsp\;&nbsp\;<a href="https://scshrm.shrm.org/forms/chapter-meeting-october-2018-creating-confident-retirees" style="color:rgb(17\, 85\, 204)\;" target="_blank">Click here&nbsp\;</a>to register for this event.</span></strong><br />\n<span style="font-family:arial\,helvetica\,sans-serif">General PDC credit is approve\; HRCI credit approval pending.</span><br />\n<br />\nHave a great day everyone!</div>\n\n<div>&nbsp\;</div>\n</div>\n</div>\n
LOCATION:Owatonna Country Club
UID:e.66.16217
SEQUENCE:3
DTSTAMP:20260423T100449Z
URL:https://members.faribaultmn.org/events/details/south-central-shrm-meeting-retirement-readiness-16217
END:VEVENT

END:VCALENDAR
