BEGIN:VCALENDAR
VERSION:2.0
PRODID:-//ChamberMaster//Event Calendar 2.0//EN
METHOD:PUBLISH
X-PUBLISHED-TTL:P3D
REFRESH-INTERVAL:P3D
CALSCALE:GREGORIAN
BEGIN:VEVENT
DTSTART:20181213T173000Z
DTEND:20181213T190000Z
X-MICROSOFT-CDO-ALLDAYEVENT:FALSE
SUMMARY:Ten Leadership Secrets of Santa Claus
DESCRIPTION:Thought for the Day: Every single day you should wake up and commit yourself to becoming a better person and inspiring excellence!\n\n \n\nOur December Chapter Meeting is going to be one you won't want to miss - Ten Leadership Secrets of Santa Claus.  Ted Schick is always engaging\, his message is clear\, and he presents with humor.\n\n \n\nDate:        December 13\, 2018\n\nTime:       11:30AM - 1:00PM  \n\nLocation:  Owatonna Country Club\n\n\n\nIt's that time of year that Santa really begins to ramp up his production in the North Pole. Behind the always-in-style red suit\, flashy sled and inexhaustible reindeer is real leadership from Santa as he annually pulls off his amazing holiday feat. In this fun (and not too serious) presentation by Ted Schick\, he will examine 10 leadership secrets of Santa--from his consistent jolly manner to getting the most from his elves. Fill your "knowledge stocking" and close out the year with joy and laughter.\n\n\n\nPlease register today.  Click here to register for this event.\n\nPDC credits and HRCI general credits submitted for approval.\n\n\n\n*****************************\n\nSPECIAL EVENT: March 6\, 2019 - HR & Supervisor Training 101! Please register here today.  Click here to register for this event.\n\n5.75 General PDC & HRCI credits have been submitted for approval.
X-ALT-DESC;FMTTYPE=text/html:Thought for the Day: Every single day you should wake up and commit yourself to becoming a better person and inspiring excellence!<br />\n&nbsp\;<br />\nOur December Chapter Meeting is going to be one you won&#39\;t want to miss - Ten Leadership Secrets of Santa Claus.&nbsp\; Ted Schick is always engaging\, his message is clear\, and he presents with humor.<br />\n&nbsp\;<br />\n<strong><span style="font-family:arial\,sans-serif"><span style="font-size:9.5pt">Date:&nbsp\; &nbsp\; &nbsp\; &nbsp\; December 13\, 2018</span></span></strong><br />\n<strong><span style="color:black"><span style="font-family:arial\,sans-serif"><span style="font-size:9.5pt">Time:&nbsp\; &nbsp\; &nbsp\; &nbsp\;11:30AM - 1:00PM</span>&nbsp\;&nbsp\;</span></span></strong><br />\n<strong><span style="font-family:arial\,sans-serif"><span style="font-size:9.5pt">Location: &nbsp\;Owatonna Country Club</span></span></strong><br />\n<br />\nIt&#39\;s that time of year that Santa really begins to ramp up his production in the North Pole. Behind the always-in-style red suit\, flashy sled and inexhaustible reindeer is&nbsp\;<strong><span style="font-family:calibri\,sans-serif">real leadership&nbsp\;</span></strong>from Santa as he annually pulls off his amazing holiday feat. In this fun (<em><span style="font-family:calibri\,sans-serif">and not too serious)</span></em>&nbsp\;presentation by Ted Schick\, he will examine 10 leadership secrets of Santa--from his consistent jolly manner to getting the most from his elves. Fill your &quot\;knowledge stocking&quot\; and close out the year with joy and laughter.<br />\n<br />\n<strong><span style="color:black"><span style="font-family:calibri\,sans-serif">Please register today.&nbsp\;</span></span></strong><strong><span style="font-family:calibri\,sans-serif">&nbsp\;<a href="https://urldefense.proofpoint.com/v2/url?u=https-3A__scshrm.shrm.org_forms_chapter-2Dmeeting-2Ddecember-2D2018-2Dten-2Dleadership-2Dsecrets-2Dsanta&amp\;d=DwMFaQ&amp\;c=euGZstcaTDllvimEN8b7jXrwqOf-v5A_CdpgnVfiiMM&amp\;r=Be1A7cb7zIuhshj4P5oUjSILLxABj-eKhuFTjGS_FjA&amp\;m=ZsjMNC4QrtCr7SNuJjQdZmcpR1f3fLFCQCLwIEq3c4o&amp\;s=TJ7-9KJc4VH0h3x7jckeyfCoGP7TGxSIy8UrHhgf32I&amp\;e=" target="_blank">Click here&nbsp\;</a><span style="color:#111111">to register for this event.</span></span></strong><br />\nPDC credits and HRCI general credits submitted for approval.<br />\n<br />\n<span style="color:#9900FF">*****************************</span><br />\n<strong><span style="color:#9900FF">SPECIAL EVENT: March 6\, 2019 - HR &amp\; Supervisor Training 101! Please register here today.&nbsp\;</span></strong><strong><span style="font-family:arial\,sans-serif"><span style="font-size:9.5pt">&nbsp\;<a href="https://urldefense.proofpoint.com/v2/url?u=https-3A__scshrm.shrm.org_forms_special-2Dtraining-2Devent-2Dmarch-2D6-2D2019-2Dsupervisor-2Dtraining-2D101&amp\;d=DwMFaQ&amp\;c=euGZstcaTDllvimEN8b7jXrwqOf-v5A_CdpgnVfiiMM&amp\;r=Be1A7cb7zIuhshj4P5oUjSILLxABj-eKhuFTjGS_FjA&amp\;m=ZsjMNC4QrtCr7SNuJjQdZmcpR1f3fLFCQCLwIEq3c4o&amp\;s=uL3WleacCYDRtcmNDdUjx5x3_bBOttXzIe7MoYyrIp4&amp\;e=" target="_blank">Click here&nbsp\;</a>to register for this event.</span></span></strong><br />\n<span style="font-family:arial\,sans-serif"><span style="font-size:9.5pt">5.75 General PDC &amp\; HRCI credits have been submitted for approval.</span></span>&nbsp\;
LOCATION:Owatonna Country Club
UID:e.66.16241
SEQUENCE:3
DTSTAMP:20260423T100532Z
URL:https://members.faribaultmn.org/events/details/ten-leadership-secrets-of-santa-claus-16241
END:VEVENT

END:VCALENDAR
