BEGIN:VCALENDAR
VERSION:2.0
PRODID:-//ChamberMaster//Event Calendar 2.0//EN
METHOD:PUBLISH
X-PUBLISHED-TTL:P3D
REFRESH-INTERVAL:P3D
CALSCALE:GREGORIAN
BEGIN:VEVENT
DTSTART;VALUE=DATE:20181129
DTEND;VALUE=DATE:20181130
TRANSP:TRANSPARENT
X-MICROSOFT-CDO-ALLDAYEVENT:TRUE
SUMMARY:The 3 Ten Event Venue OPEN HOUSE
DESCRIPTION:Have you been dying to peek inside our gorgeous venue? You're in luck! We are so excited to invite you to The 3 Ten Open House during The City of Faribault's Winterfest! Join us November 29th\, 2018 from 4:00pm 8:00pm. This is the perfect opportunity to tour our space\, meet with our talented staff\, and envision your event. \n\n\n\n \n\n\n\nWith stunning d cor\, awesome live music\, and cash bar this open house is sure to be an enjoyable way to spend your evening  not to mention an unforgettable source of wedding/event inspiration. \n\n\n\n \n\n\n\nBrides and grooms are welcome to attend and are free to bring any friends or family along. The more\, the merrier! Our doors will be open from 4:00pm 8:00pm and our staff will be available to assist you with any questions. We hope you'll drop by and stay awhile!!!\n\n\n\n \n\n\n\nWe also extend our warm welcome to other businesses and community members who wish to get familiar with our venue. Our venue is perfect not only for weddings but corporate events such a fundraiser\, gala\, client appreciation\, or holiday party. You may also want to consider us for your next special event (Quinceanera\, Bar and Bat Mitzvah\, bridal shower\, rehearsal dinner\, Etc). We can accommodate virtually any size community event or activity. \n\n\n\n \n\n\n\nMark your calendars now for November 29th! We can't wait to welcome you to our venue. We have every confidence you'll fall in love with this space as much as we have. Don't hesitate to contact us with any questions between now and then!
X-ALT-DESC;FMTTYPE=text/html:<div>\n<div><span style="font-family:inherit">Have you been dying to peek inside our gorgeous venue? You&rsquo\;re in luck! We are so excited to invite you to The 3 Ten Open House during The City of Faribault&#39\;s Winterfest! Join us November 29th\, 2018 from 4:00pm&ndash\;8:00pm. This is the perfect opportunity to tour our space\, meet with our talented staff\, and envision your event. </span></div>\n</div>\n\n<div>\n<div>&nbsp\;</div>\n</div>\n\n<div>\n<div><span style="font-family:inherit">With stunning d&eacute\;cor\, awesome live music\, and cash bar this open house is sure to be an enjoyable way to spend your evening&hellip\; not to mention an unforgettable source of wedding/event inspiration. </span></div>\n</div>\n\n<div>\n<div>&nbsp\;</div>\n</div>\n\n<div>\n<div><span style="font-family:inherit">Brides and grooms are welcome to attend and are free to bring any friends or family along. The more\, the merrier! Our doors will be open from 4:00pm&ndash\;8:00pm and our staff will be available to assist you with any questions. We hope you&rsquo\;ll drop by and stay awhile!!!</span></div>\n</div>\n\n<div>\n<div>&nbsp\;</div>\n</div>\n\n<div>\n<div><span style="font-family:inherit">We also extend our warm welcome to other businesses and community members who wish to get familiar with our venue. Our venue is perfect not only for weddings but corporate events such a fundraiser\, gala\, client appreciation\, or holiday party. You may also want to consider us for your next special event (Quinceanera\, Bar and Bat Mitzvah\, bridal shower\, rehearsal dinner\, Etc). We can accommodate virtually any size community event or activity. </span></div>\n</div>\n\n<div>\n<div>&nbsp\;</div>\n</div>\n\n<div>\n<div><span style="font-family:inherit">Mark your calendars now for November 29th! We can&rsquo\;t wait to welcome you to our venue. We have every confidence you&rsquo\;ll fall in love with this space as much as we have. Don&rsquo\;t hesitate to contact us with any questions between now and then!</span></div>\n</div>\n
LOCATION:310 Central Ave. Faribault\, MN 55021
UID:e.66.16231
SEQUENCE:3
DTSTAMP:20260423T112117Z
URL:https://members.faribaultmn.org/events/details/the-3-ten-event-venue-open-house-16231
END:VEVENT

END:VCALENDAR
