BEGIN:VCALENDAR
VERSION:2.0
PRODID:-//ChamberMaster//Event Calendar 2.0//EN
METHOD:PUBLISH
X-PUBLISHED-TTL:P3D
REFRESH-INTERVAL:P3D
CALSCALE:GREGORIAN
BEGIN:VEVENT
DTSTART:20181118T210000Z
DTEND:20181118T230000Z
X-MICROSOFT-CDO-ALLDAYEVENT:FALSE
SUMMARY:The Girl Singers of the Hit Parade Christmas Show for Ruth's House
DESCRIPTION:Colleen Raye Production Co present a Holiday Concert for Ruth's House:   Christmas is a time we all want to hear those cherished songs that bring a wave of nostalgia. Most of the popular Christmas songs were made famous in the 1950s and this show brings them all back. The Lennon Sisters\, Andrews Sisters\, McGuire Sisters and the King Family were a part of every family's Holiday and still are in many cases. "The Girl Singers of the Hit Parade" encompass this warm family feeling with their Christmas Show. Admission is free. A freewill offering will be collected for Ruth's House.
X-ALT-DESC;FMTTYPE=text/html:Colleen Raye Production Co present a Holiday Concert for Ruth&rsquo\;s House:&nbsp\; &nbsp\;Christmas is a time we all want to hear those cherished songs that bring a wave of nostalgia. Most of the popular Christmas songs were made famous in the 1950s and this show brings them all back. The Lennon Sisters\, Andrews Sisters\, McGuire Sisters and the King Family were a part of every family&rsquo\;s Holiday and still are in many cases. &quot\;The Girl Singers of the Hit Parade&rdquo\; encompass this warm family feeling with their Christmas Show. Admission is free. A freewill offering will be collected for Ruth&#39\;s House.
LOCATION:Our Savior's Lutheran Church 1207 Prairie Ave SW Faribault
UID:e.66.16228
SEQUENCE:3
DTSTAMP:20260423T100922Z
URL:https://members.faribaultmn.org/events/details/the-girl-singers-of-the-hit-parade-christmas-show-for-ruth-s-house-16228
END:VEVENT

END:VCALENDAR
