BEGIN:VCALENDAR
VERSION:2.0
PRODID:-//ChamberMaster//Event Calendar 2.0//EN
METHOD:PUBLISH
X-PUBLISHED-TTL:P3D
REFRESH-INTERVAL:P3D
CALSCALE:GREGORIAN
BEGIN:VEVENT
DTSTART:20220327T003000Z
DTEND:20220327T021500Z
X-MICROSOFT-CDO-ALLDAYEVENT:FALSE
SUMMARY:The Jensen Sisters
DESCRIPTION:March 26th at 7:30 pm\n\n \n\nA modern duo rooted in the old-school twang of the country singers\, outlaws\, and roots-rockers who came before them\, the Jensen Sisters are torchbearers of a sound they proudly call "new wave retro country." It's a timeless sound built for honky-tonks\, highways\, and all places in between\, and it's taken the harmony-singing siblings from their small hometown of Goodridge\, Minnesota   population: 132   to stages across the Midwest. Armed with original songs that navigate the ins and outs of new love\, old habits\, and the uneasy tug-of-war between the lure of the open road and the comforts of home\, Kendra and Kansas Jensen have built their audience song-by-song\, show-by-show\, story-by-story. They begin a new chapter of that story with Yellow Frames\, a debut album that arrives on the heels of the duo being crowned "New Artist of the Year" at the 2020 Midwest CMAs.
X-ALT-DESC;FMTTYPE=text/html:<p><strong>March 26th at 7:30 pm</strong></p>\n\n<p>&nbsp\;</p>\n\n<p>A modern duo rooted in the old-school twang of the country singers\, outlaws\, and roots-rockers who came before them\, the Jensen Sisters are torchbearers of a sound they proudly call &ldquo\;new wave retro country.&rdquo\; It&rsquo\;s a timeless sound built for honky-tonks\, highways\, and all places in between\, and it&rsquo\;s taken the harmony-singing siblings from their small hometown of Goodridge\, Minnesota &mdash\; population: 132 &mdash\; to stages across the Midwest. Armed with original songs that navigate the ins and outs of new love\, old habits\, and the uneasy tug-of-war between the lure of the open road and the comforts of home\, Kendra and Kansas Jensen have built their audience song-by-song\, show-by-show\, story-by-story. They begin a new chapter of that story with Yellow Frames\, a debut album that arrives on the heels of the duo being crowned &ldquo\;New Artist of the Year&rdquo\; at the 2020 Midwest CMAs.</p>\n
LOCATION:Paradise Center for the Arts 321 Central Avenue Faribault\, MN 55021
UID:e.66.17631
SEQUENCE:3
DTSTAMP:20260423T094524Z
URL:https://members.faribaultmn.org/events/details/the-jensen-sisters-17631
END:VEVENT

END:VCALENDAR
