BEGIN:VCALENDAR
VERSION:2.0
PRODID:-//ChamberMaster//Event Calendar 2.0//EN
METHOD:PUBLISH
X-PUBLISHED-TTL:P3D
REFRESH-INTERVAL:P3D
CALSCALE:GREGORIAN
BEGIN:VEVENT
DTSTART:20220312T013000Z
DTEND:20220312T031500Z
X-MICROSOFT-CDO-ALLDAYEVENT:FALSE
SUMMARY:The Jimmys
DESCRIPTION:Over the past twelve years\, The Jimmys have solidified their brand of Blues and R&B across the Midwest\, Canada\, Europe\, and the Caribbean. Led by multiple award-winning keyboardist/organist Jimmy Voegeli\, the band has been named a "festival favorite" in numerous reviews and magazines. With Voegeli is an all-star rhythm section featuring:\n\nChris Sandoval\, Drums (Tommy Castro)\n\nJohn Wartenweiler\, Bass (The Crashers)\n\nBlues veteran Perry Weber\, guitar (Hurbert Sumlin)\n\nTheir unique sound is capped off with Wisconsin's best horn section. These three honed their skills over the years playing with the original Funky Drummer himself\, Clyde Stubblefield. \n\nPete Ross\, Saxophone (Glenn Miller Orchestra)\n\nMike Boman\, Trumpet (Youngblood Brass Band)\n\nJoe Goltz\, Trombone (Youngblood Brass Band)
X-ALT-DESC;FMTTYPE=text/html:<p>&nbsp\;</p>\n\n<p>Over the past twelve years\, The Jimmys have solidified their brand of Blues and R&amp\;B across the Midwest\, Canada\, Europe\, and the Caribbean. Led by multiple award-winning keyboardist/organist Jimmy Voegeli\, the band has been named a &ldquo\;festival favorite&rdquo\; in numerous reviews and magazines. With Voegeli is an all-star rhythm section featuring:</p>\n\n<p>Chris Sandoval\, Drums (Tommy Castro)</p>\n\n<p>John Wartenweiler\, Bass (The Crashers)</p>\n\n<p>Blues veteran Perry Weber\, guitar (Hurbert Sumlin)</p>\n\n<p>Their unique sound is capped off with Wisconsin&rsquo\;s best horn section. These three honed their skills over the years playing with the original Funky Drummer himself\, Clyde Stubblefield.&nbsp\;</p>\n\n<p>Pete Ross\, Saxophone (Glenn Miller Orchestra)</p>\n\n<p>Mike Boman\, Trumpet (Youngblood Brass Band)</p>\n\n<p>Joe Goltz\, Trombone (Youngblood Brass Band)</p>\n
LOCATION:Paradise Center for the Arts 321 Central Avenue Faribault\, MN 55021
UID:e.66.17621
SEQUENCE:3
DTSTAMP:20260423T094454Z
URL:https://members.faribaultmn.org/events/details/the-jimmys-17621
END:VEVENT

END:VCALENDAR
