BEGIN:VCALENDAR
VERSION:2.0
PRODID:-//ChamberMaster//Event Calendar 2.0//EN
METHOD:PUBLISH
X-PUBLISHED-TTL:P3D
REFRESH-INTERVAL:P3D
CALSCALE:GREGORIAN
BEGIN:VEVENT
DTSTART:20220322T140000Z
DTEND:20220322T153000Z
X-MICROSOFT-CDO-ALLDAYEVENT:FALSE
SUMMARY:Throwing on the Wheel with Dianne Lockerby
DESCRIPTION:Throwing on the Wheel March 21\, 22\, 23 9:00am-10:30am. Member $52/Non-Member $61. Masks are required for this class. Ages 10 and up. Students must have previous wheel experience and know how to center their clay. This not a class for beginners. Dianne will guide you through the various steps needed to perfect your skills by giving demonstrations of the process. Repetition and patience are necessary. Throwing is a calming yet frustrating experience that we go through together. We will be working to develop a firm foundation in throwing skills so that your skills will grow through practice.  Instructor: Dianne Lockerby\n\nMust be registered by March 17th\, to get registered call 507-332-7372 or email info@paradisecenterforthearts.org
X-ALT-DESC;FMTTYPE=text/html:<p><strong>Throwing on the Wheel</strong>&nbsp\;March 21\, 22\, 23 9:00am-10:30am. Member $52/Non-Member $61.&nbsp\;<strong>Masks are required for this class.</strong>&nbsp\;Ages 10 and up. Students must have previous wheel experience and know how to center their clay. This not a class for beginners. Dianne will guide you through the various steps needed to perfect your skills by giving demonstrations of the process. Repetition and patience are necessary. Throwing is a calming yet frustrating experience that we go through together. We will be working to develop a firm foundation in throwing skills so that your skills will grow through practice.&nbsp\; Instructor: Dianne Lockerby</p>\n\n<p><em>Must be registered by March 17th\, to get registered call 507-332-7372 or email&nbsp\;<a href="mailto:info@paradisecenterforthearts.org" style="box-sizing: border-box\; color: rgb(51\, 122\, 183)\; text-decoration-line: none\; font-weight: bold\;">info@paradisecenterforthearts.org</a></em></p>\n
LOCATION:Paradise Center for the Arts 321 Central Avenue Faribault\, MN 55021
UID:e.66.17658
SEQUENCE:3
DTSTAMP:20260423T102203Z
URL:https://members.faribaultmn.org/events/details/throwing-on-the-wheel-with-dianne-lockerby-03-22-2022-17658
END:VEVENT

END:VCALENDAR
