BEGIN:VCALENDAR
VERSION:2.0
PRODID:-//ChamberMaster//Event Calendar 2.0//EN
METHOD:PUBLISH
X-PUBLISHED-TTL:P3D
REFRESH-INTERVAL:P3D
CALSCALE:GREGORIAN
BEGIN:VEVENT
DTSTART:20240727T200000Z
DTEND:20240728T010000Z
X-MICROSOFT-CDO-ALLDAYEVENT:FALSE
SUMMARY:Twisted Chicken at Vintage Escapes Winery
DESCRIPTION:Twisted Chicken food truck is back at the winery serving yummy chicken dishes! If you haven't tried Twisted Chicken yet\, you're going to want to - and this is such a great opportunity to do so. Plus - their chicken dishes go great with wine! Pop Prohibition will also be performing live at the winery 5-7pm! (Note: The Vintage Escapes Winery kitchen will be closed so you can enjoy the delicious offerings of Twisted Chicken.)
X-ALT-DESC;FMTTYPE=text/html:Twisted Chicken food truck is back at the winery serving yummy chicken dishes! If you haven&#39\;t tried Twisted Chicken yet\, you&#39\;re going to want to - and this is such a great opportunity to do so. Plus - their chicken dishes go great with wine! Pop Prohibition will also be performing live at the winery 5-7pm! (Note: The Vintage Escapes Winery kitchen will be closed so you can enjoy the delicious offerings of Twisted Chicken.)
LOCATION:Vintage Escapes Winery 8950 Dodd Rd Kilkenny\, MN 56052
UID:e.66.20307
SEQUENCE:3
DTSTAMP:20260419T174457Z
URL:https://members.faribaultmn.org/events/details/twisted-chicken-at-vintage-escapes-winery-07-27-2024-20307
END:VEVENT

END:VCALENDAR
