BEGIN:VCALENDAR
VERSION:2.0
PRODID:-//ChamberMaster//Event Calendar 2.0//EN
METHOD:PUBLISH
X-PUBLISHED-TTL:P3D
REFRESH-INTERVAL:P3D
CALSCALE:GREGORIAN
BEGIN:VEVENT
DTSTART:20181208T160000Z
DTEND:20181208T200000Z
X-MICROSOFT-CDO-ALLDAYEVENT:FALSE
SUMMARY:Upcycling: Button Making
DESCRIPTION:Drop-in and create buttons that show off your love of nature.
X-ALT-DESC;FMTTYPE=text/html:Drop-in and create buttons that show off your love of nature.&nbsp\;
LOCATION:River Bend Nature Center 1000 Rustad Rd. Faribault\, MN 55021
UID:e.66.16248
SEQUENCE:3
DTSTAMP:20260423T082843Z
URL:https://members.faribaultmn.org/events/details/upcycling-button-making-16248
END:VEVENT

END:VCALENDAR
