BEGIN:VCALENDAR
VERSION:2.0
PRODID:-//ChamberMaster//Event Calendar 2.0//EN
METHOD:PUBLISH
X-PUBLISHED-TTL:P3D
REFRESH-INTERVAL:P3D
CALSCALE:GREGORIAN
BEGIN:VEVENT
DTSTART:20181201T160000Z
DTEND:20181201T200000Z
X-MICROSOFT-CDO-ALLDAYEVENT:FALSE
SUMMARY:Upcycling: T-shirt Bags
DESCRIPTION:Show the world how eco-friendly you are. Drop-in to make and decorate a bag from an old t-shirt. All ages welcome!
X-ALT-DESC;FMTTYPE=text/html:Show the world how eco-friendly you are. Drop-in to make and decorate a bag from an old t-shirt. All ages welcome!
LOCATION:River Bend Nature Center 1000 Rustad Rd. Faribault\, MN 55021
UID:e.66.16247
SEQUENCE:3
DTSTAMP:20260423T100409Z
URL:https://members.faribaultmn.org/events/details/upcycling-t-shirt-bags-16247
END:VEVENT

END:VCALENDAR
