BEGIN:VCALENDAR
VERSION:2.0
PRODID:-//ChamberMaster//Event Calendar 2.0//EN
METHOD:PUBLISH
X-PUBLISHED-TTL:P3D
REFRESH-INTERVAL:P3D
CALSCALE:GREGORIAN
BEGIN:VEVENT
DTSTART:20220508T003000Z
DTEND:20220508T021500Z
X-MICROSOFT-CDO-ALLDAYEVENT:FALSE
SUMMARY:Walter Salas-Humara\, Jonathan Rundman and Eric Kassel
DESCRIPTION:May 7th at 7:30 pm\n\n \n\nWalter Salas-Humara is the chief songwriter for and a founding member of The Silos\, a rock band formed in 1985 in New York City with Bob Rupe. The Silos were voted the Best New American Band in the Rolling Stone Critics Poll of 1987\, and have released more than a dozen albums to date. Jonathan Rundman is a songwriter and musician originally from the Finnish-American communities of Michigan's Upper Peninsula. His critically acclaimed career has spanned three decades and includes forays into rock and roll\, traditional nordic folk music\, and Lutheran liturgical composition. Eric Jon Kassel is a graphic designer\, director\, musician\, & motion graphics artist based in Minneapolis.   He is co-founder of the design studio Lake & Pine.
X-ALT-DESC;FMTTYPE=text/html:<p>May 7th at 7:30 pm</p>\n\n<p>&nbsp\;</p>\n\n<p>Walter Salas-Humara is the chief songwriter for and a founding member of The Silos\, a rock band formed in 1985 in New York City with Bob Rupe. The Silos were voted the Best New American Band in the Rolling Stone Critics Poll of 1987\, and have released more than a dozen albums to date.&nbsp\;Jonathan Rundman is a songwriter and musician originally from the Finnish-American communities of Michigan&rsquo\;s Upper Peninsula. His critically acclaimed career has spanned three decades and includes forays into rock and roll\, traditional nordic folk music\, and Lutheran liturgical composition.&nbsp\;Eric Jon Kassel is a graphic designer\, director\, musician\, &amp\; motion graphics artist based in Minneapolis. &hellip\; He is co-founder of the design studio Lake &amp\; Pine.</p>\n
LOCATION:Paradise Center or the Arts 321 Central Avenue Faribault\, MN 55021
UID:e.66.17634
SEQUENCE:3
DTSTAMP:20260421T191046Z
URL:https://members.faribaultmn.org/events/details/walter-salas-humara-jonathan-rundman-and-eric-kassel-17634
END:VEVENT

END:VCALENDAR
