BEGIN:VCALENDAR
VERSION:2.0
PRODID:-//ChamberMaster//Event Calendar 2.0//EN
METHOD:PUBLISH
X-PUBLISHED-TTL:P3D
REFRESH-INTERVAL:P3D
CALSCALE:GREGORIAN
BEGIN:VEVENT
DTSTART:20220714T140000Z
DTEND:20220714T153000Z
X-MICROSOFT-CDO-ALLDAYEVENT:FALSE
SUMMARY:Wheelwork with Dianne Lockerby
DESCRIPTION:Wheelwork Students must be between ages 10 and 100. Monday- Thursday\, July 11-14\, from 9 AM-10:30 AM. Member $68/ Non-Member $80. This class is for the beginner or someone who has been away from clay for a bit. We will start with the basics of centering\, opening and go on from there. Each day Dianne does demos and will guide you through the steps of throwing to achieve pieces on the wheel. Small at first\, but as skills progress the pots will get bigger and the walls thinner. Persistence pays off here\, but it does take time. This class is a taste of wheelwork.  Larger pots require more time than 4 days to learn the skills\, but this class allows you to say\, "I've thrown a pot!" and gives you an idea as to whether you would like to continue. Come join us\, getting dirty and having fun. Bring towel and wear clothes to get dirty. Instructor: Dianne Lockerby
X-ALT-DESC;FMTTYPE=text/html:<strong><u>Wheelwork </u></strong>Students must be between ages 10 and 100. Monday- Thursday\, July 11-14\, from 9 AM-10:30 AM. Member $68/ Non-Member $80. This class is for the beginner or someone who has been away from clay for a bit. We will start with the basics of centering\, opening and go on from there. Each day Dianne does demos and will guide you through the steps of throwing to achieve pieces on the wheel. Small at first\, but as skills progress the pots will get bigger and the walls thinner. Persistence pays off here\, but it does take time. This class is a taste of wheelwork.&nbsp\; Larger pots require more time than 4 days to learn the skills\, but this class allows you to say\, &quot\;I&#39\;ve thrown a pot!&quot\; and gives you an idea as to whether you would like to continue. Come join us\, getting dirty and having fun. Bring towel and wear clothes to get dirty. Instructor: Dianne Lockerby
LOCATION:Paradise Center for the Arts 321 Central Avenue N Faribault\, MN 55021
UID:e.66.18241
SEQUENCE:3
DTSTAMP:20260421T225859Z
URL:https://members.faribaultmn.org/events/details/wheelwork-with-dianne-lockerby-07-14-2022-18241
END:VEVENT

END:VCALENDAR
