BEGIN:VCALENDAR
VERSION:2.0
PRODID:-//ChamberMaster//Event Calendar 2.0//EN
METHOD:PUBLISH
X-PUBLISHED-TTL:P3D
REFRESH-INTERVAL:P3D
CALSCALE:GREGORIAN
BEGIN:VEVENT
DTSTART:20220320T003000Z
DTEND:20220320T021500Z
X-MICROSOFT-CDO-ALLDAYEVENT:FALSE
SUMMARY:Wildflower\, a folk quartet
DESCRIPTION:Saturday\, March 19th at 7:30 pm\n\nMember $20/ Non-Member $25/ Student $15\n\nA talented female folk quartet formed in Winona\, MN\, Wildflower creates a fresh\, effervescent sound. The group offers smooth\, lilting harmonies and solid performances on duo keyboards and guitars\, cello\, and flute.
X-ALT-DESC;FMTTYPE=text/html:<p>Saturday\, March 19th at 7:30 pm</p>\n\n<p>Member $20/ Non-Member $25/ Student $15</p>\n\n<p>A talented female folk quartet formed in Winona\, MN\, Wildflower creates a fresh\, effervescent sound. The group offers smooth\, lilting harmonies and solid performances on duo keyboards and guitars\, cello\, and flute.&nbsp\;</p>\n
LOCATION:Paradise Center for the Arts 321 Central Avenue Faribault\, MN 55021
UID:e.66.17622
SEQUENCE:3
DTSTAMP:20260423T094619Z
URL:https://members.faribaultmn.org/events/details/wildflower-a-folk-quartet-17622
END:VEVENT

END:VCALENDAR
