BEGIN:VCALENDAR
VERSION:2.0
PRODID:-//ChamberMaster//Event Calendar 2.0//EN
METHOD:PUBLISH
X-PUBLISHED-TTL:P3D
REFRESH-INTERVAL:P3D
CALSCALE:GREGORIAN
BEGIN:VEVENT
DTSTART:20181129T220000Z
DTEND:20181130T020000Z
X-MICROSOFT-CDO-ALLDAYEVENT:FALSE
SUMMARY:Winterfest
DESCRIPTION:Thursday\, November 29 will be the annual Window Decorating contest throughout downtown Faribault. Shop owners and employees put their creative juices flow and put together spectacular displays! \n\nBack again this year\, will be an ice carving! Sakatah Carvers\, Signs & Creations will be crafting a sculpture from a block of ice\, and you can watch the process! \n\nAdditionally\, Due North will be caroling\, and Santa and his reindeer will be at the Buckham center along with arts and crafts\, and live music!\n\n\nThank you to the sponsors that make this possible:Faribault Ace Hardware\, Comprehensive Wealth Solutions\, State Bank of Faribault\, IBEW Local 110\, Steele Waseca Cooperative\, Community Coop Oil Association\, Mayo Clinic Health System\, Hometown Credit Union\, Glass Garden Beads\, Faribault Woolen Mills\, Edina Realty\, Brushwork Signs\, Mill City Senior Living\, Reliance Bank\, Richie Eye Clinic\, Kwik Trip\, Rich Cahoon: Allstate\, Chappuis Jewelry\, Crooked Pint\, Fairway Outdoor\, First Financial Security\, Inc.\, Tony Langerude Insurance Agency\, Heartman Insurance\, Faribo Sno- Go Club\, Faribault Rental\, Faribault Daily News\, Power 96/ KDHL\, Wireless World Verizon Authorized Retailer
X-ALT-DESC;FMTTYPE=text/html:<span style="color: rgb(29\, 33\, 41)\; font-family: Helvetica\, Arial\, sans-serif\; font-size: 14px\; background-color: rgb(255\, 255\, 255)\;">Thursday\, November 29 will be the annual Window Decorating contest throughout downtown Faribault. Shop owners and employees put their creative juices flow and put together spectacular displays!&nbsp\;</span><br style="color: rgb(29\, 33\, 41)\; font-family: Helvetica\, Arial\, sans-serif\; font-size: 14px\; background-color: rgb(255\, 255\, 255)\;" />\n<span style="color: rgb(29\, 33\, 41)\; font-family: Helvetica\, Arial\, sans-serif\; font-size: 14px\; background-color: rgb(255\, 255\, 255)\;">Back again this year\, will be an ice carving!&nbsp\;</span><a href="https://www.facebook.com/sakatahcarvers/" style="color: rgb(54\, 88\, 153)\; cursor: pointer\; text-decoration-line: none\; font-family: Helvetica\, Arial\, sans-serif\; font-size: 14px\; background-color: rgb(255\, 255\, 255)\;" target="_blank">Sakatah Carvers\, Signs &amp\; Creations</a><span style="color: rgb(29\, 33\, 41)\; font-family: Helvetica\, Arial\, sans-serif\; font-size: 14px\; background-color: rgb(255\, 255\, 255)\;">&nbsp\;will be crafting a sculpture from a block of ice\, and you can watch the process!&nbsp\;</span><br style="color: rgb(29\, 33\, 41)\; font-family: Helvetica\, Arial\, sans-serif\; font-size: 14px\; background-color: rgb(255\, 255\, 255)\;" />\n<span style="color: rgb(29\, 33\, 41)\; font-family: Helvetica\, Arial\, sans-serif\; font-size: 14px\; background-color: rgb(255\, 255\, 255)\;">Additionally\,&nbsp\;</span><a href="https://www.facebook.com/duenorthvocalband/" style="color: rgb(54\, 88\, 153)\; cursor: pointer\; text-decoration-line: none\; font-family: Helvetica\, Arial\, sans-serif\; font-size: 14px\; background-color: rgb(255\, 255\, 255)\;" target="_blank">Due North</a><span style="color: rgb(29\, 33\, 41)\; font-family: Helvetica\, Arial\, sans-serif\; font-size: 14px\; background-color: rgb(255\, 255\, 255)\;">&nbsp\;will be caroling\, and Santa and his reindeer will be at the Buckham center along with arts and crafts\, and live music!</span>\n<div>\n<div class="_5pbx userContent _3576" data-ad-preview="message" data-ft="{&quot\;tn&quot\;:&quot\;K&quot\;}" id="js_4dn" style="font-size: 14px\; line-height: 1.38\; margin-top: 6px\; font-family: Helvetica\, Arial\, sans-serif\; color: rgb(29\, 33\, 41)\; background-color: rgb(255\, 255\, 255)\;">\n<p style="margin: 0px\; display: inline\; font-family: inherit\;"><span style="color: rgb(29\, 33\, 41)\; font-family: Helvetica\, Arial\, sans-serif\; font-size: 14px\; background-color: rgb(255\, 255\, 255)\;">Thank you to the sponsors that make this possible:Faribault Ace Hardware\, Comprehensive Wealth Solutions\, State Bank of Faribault\, IBEW Local 110\, Steele Waseca Cooperative\, Community Coop Oil Association\, Mayo Clinic Health System\, Hometown Credit Union\, Glass Garden Beads\, Faribault Woolen Mills\, Edina Realty\, Brushwork Signs\, Mill City Senior Living\, Reliance Bank\, Richie Eye Clinic\, Kwik Trip\, Rich Cahoon: Allstate\, Chappuis Jewelry\, Crooked Pint\, Fairway Outdoor\, First Financial Security\, Inc.\, Tony Langerude Insurance Agency\, Heartman Insurance\, Faribo Sno- Go Club\, Faribault Rental\, Faribault Daily News\, Power 96/ KDHL\, Wireless World Verizon Authorized Retailer</span></p>\n</div>\n</div>\n
LOCATION:Downtown Faribault
UID:e.66.16225
SEQUENCE:3
DTSTAMP:20260423T110816Z
URL:https://members.faribaultmn.org/events/details/winterfest-16225
END:VEVENT

END:VCALENDAR
