BEGIN:VCALENDAR
VERSION:2.0
PRODID:-//ChamberMaster//Event Calendar 2.0//EN
METHOD:PUBLISH
X-PUBLISHED-TTL:P3D
REFRESH-INTERVAL:P3D
CALSCALE:GREGORIAN
BEGIN:VEVENT
DTSTART;VALUE=DATE:20181130
DTEND;VALUE=DATE:20181201
TRANSP:TRANSPARENT
X-MICROSOFT-CDO-ALLDAYEVENT:TRUE
SUMMARY:Winterfest
DESCRIPTION:Teen Night! This event will take place at the Community Center\, more details are coming! \n\n \n\n Thank you to the sponsors that make this possible:Faribault Ace Hardware\, State Bank of Faribault\, IBEW Local 110\, Steele Waseca Cooperative\, Comprehensive Wealth Solutions\, Community Coop Oil Association\, Mayo Clinic Health System\, Hometown Credit Union\, Glass Garden Beads\, Faribault Woolen Mills\, Edina Realty\, Brushwork Signs\, Mill City Senior Living\, Reliance Bank\, Richie Eye Clinic\, Kwik Trip\, Rich Cahoon: Allstate\, Chappuis Jewelry\, Crooked Pint\, Fairway Outdoor\, First Financial Security\, Inc.\, Tony Langerude Insurance Agency\, Heartman Insurance\, Faribo Sno- Go Club\, Faribault Rental\, Faribault Daily News\, Power 96/ KDHL\, Wireless World Verizon Authorized Retailer
X-ALT-DESC;FMTTYPE=text/html:Teen Night! This event will take place at the Community Center\, more details are coming!&nbsp\;<br />\n&nbsp\;\n<div class="_5pbx userContent _3576" data-ad-preview="message" data-ft="{&quot\;tn&quot\;:&quot\;K&quot\;}" id="js_4dn" style="font-size: 14px\; line-height: 1.38\; margin-top: 6px\; font-family: Helvetica\, Arial\, sans-serif\; color: rgb(29\, 33\, 41)\; background-color: rgb(255\, 255\, 255)\;">\n<p style="margin: 0px\; display: inline\; font-family: inherit\;"><span style="color: rgb(29\, 33\, 41)\; font-family: Helvetica\, Arial\, sans-serif\; font-size: 14px\; background-color: rgb(255\, 255\, 255)\;">&nbsp\;Thank you to the sponsors that make this possible:Faribault Ace Hardware\, State Bank of Faribault\, IBEW Local 110\, Steele Waseca Cooperative\, Comprehensive Wealth Solutions\, Community Coop Oil Association\, Mayo Clinic Health System\, Hometown Credit Union\, Glass Garden Beads\, Faribault Woolen Mills\, Edina Realty\, Brushwork Signs\, Mill City Senior Living\, Reliance Bank\, Richie Eye Clinic\, Kwik Trip\, Rich Cahoon: Allstate\, Chappuis Jewelry\, Crooked Pint\, Fairway Outdoor\, First Financial Security\, Inc.\, Tony Langerude Insurance Agency\, Heartman Insurance\, Faribo Sno- Go Club\, Faribault Rental\, Faribault Daily News\, Power 96/ KDHL\,&nbsp\;</span><span style="color: rgb(29\, 33\, 41)\; font-family: Helvetica\, Arial\, sans-serif\; font-size: 14px\;">Wireless World Verizon Authorized Retailer</span></p>\n</div>\n
LOCATION:
UID:e.66.16226
SEQUENCE:3
DTSTAMP:20260423T110552Z
URL:https://members.faribaultmn.org/events/details/winterfest-16226
END:VEVENT

END:VCALENDAR
