BEGIN:VCALENDAR
VERSION:2.0
PRODID:-//ChamberMaster//Event Calendar 2.0//EN
METHOD:PUBLISH
X-PUBLISHED-TTL:P3D
REFRESH-INTERVAL:P3D
CALSCALE:GREGORIAN
BEGIN:VEVENT
DTSTART;VALUE=DATE:20181201
DTEND;VALUE=DATE:20181202
TRANSP:TRANSPARENT
X-MICROSOFT-CDO-ALLDAYEVENT:TRUE
SUMMARY:Winterfest and Parade of Lights
DESCRIPTION:New this year: Fireworks! A fireworks show light up the sky above Central Ave immediately before the Parade of Lights at 5:30pm. \n\nA parade of lights marches through the downtown on Saturday\, December 1. Parade lineup is at 4pm\, the parade starts at 5:30pm. To register a spot in the parade\, call the Faribault Area Chamber of Commerce and Tourism at (507) 334-4381. Faribault will truly be dazzling with lights and excitement that night.\n\nAs the parade comes to it's conclusion\, the night is just beginning! A street dance will follow\, and people are encouraged to bundle up and boogie the night away from 6:30-10:00pm! Music will fill the streets as people dance and warm up with beverages and heaters spaced around the area. The Faribo Sno-Go Club willing be manning the bar and serving up fun drinks. \n\nAdditionally\, the Rice County Historical Society will be hosting an Christmas Open House at the Alexander Faribault House and there is a show at the Paradise Center for the Arts. And of course\, the shops will be open so folks can cross a few items off of their shopping lists.\n\n \nThank you to the sponsors that make this possible:Faribault Ace Hardware\, State Bank of Faribault\, IBEW Local 110\, Steele Waseca Cooperative\, Community Coop Oil Association\, Comprehensive Wealth Solutions\, Mayo Clinic Health System\, Hometown Credit Union\, Glass Garden Beads\, Faribault Woolen Mills\, Edina Realty\, Brushwork Signs\, Mill City Senior Living\, Reliance Bank\, Richie Eye Clinic\, Kwik Trip\, Rich Cahoon: Allstate\, Chappuis Jewelry\, Crooked Pint\, Fairway Outdoor\, First Financial Security\, Inc.\, Tony Langerude Insurance Agency\, Heartman Insurance\, Faribo Sno- Go Club\, Faribault Rental\, Faribault Daily News\, Power 96/ KDHL\, Wireless World Verizon Authorized Retailer
X-ALT-DESC;FMTTYPE=text/html:<span style="color: rgb(29\, 33\, 41)\; font-family: Helvetica\, Arial\, sans-serif\; font-size: 14px\; background-color: rgb(255\, 255\, 255)\;">New this year: Fireworks! A fireworks show light up the sky above Central Ave immediately before the Parade of Lights at 5:30pm.&nbsp\;</span><br style="color: rgb(29\, 33\, 41)\; font-family: Helvetica\, Arial\, sans-serif\; font-size: 14px\; background-color: rgb(255\, 255\, 255)\;" />\n<span style="color: rgb(29\, 33\, 41)\; font-family: Helvetica\, Arial\, sans-serif\; font-size: 14px\; background-color: rgb(255\, 255\, 255)\;">A parade of lights marches through the downtown on Saturday\, December 1. Parade lineup is at 4pm\, the parade starts at 5:30pm. To register a spot in the parade\, call the Faribault Area Chamber of Commerce and Tourism at (507) 334-4381. Faribault will truly be dazzling with lights and excitement that night.</span><br style="color: rgb(29\, 33\, 41)\; font-family: Helvetica\, Arial\, sans-serif\; font-size: 14px\; background-color: rgb(255\, 255\, 255)\;" />\n<span style="color: rgb(29\, 33\, 41)\; font-family: Helvetica\, Arial\, sans-serif\; font-size: 14px\; background-color: rgb(255\, 255\, 255)\;">As the parade comes to it&rsquo\;s conclusion\, the night is just beginning! A street dance will follow\, and people are encouraged to bundle up and boogie the night away from 6:30-10:00pm! Music will fill the streets as people dance and warm up with beverages and heaters spaced around the area. The Faribo Sno-Go Club willing be manning the bar and serving up fun drinks.&nbsp\;</span><br style="color: rgb(29\, 33\, 41)\; font-family: Helvetica\, Arial\, sans-serif\; font-size: 14px\; background-color: rgb(255\, 255\, 255)\;" />\n<span style="color: rgb(29\, 33\, 41)\; font-family: Helvetica\, Arial\, sans-serif\; font-size: 14px\; background-color: rgb(255\, 255\, 255)\;">Additionally\, the Rice County Historical Society will be hosting an Christmas Open House at the Alexander Faribault House and there is a show at the Paradise Center for the Arts. And of course\, the shops will be open so folks can cross a few items off of their shopping lists.</span><br style="color: rgb(29\, 33\, 41)\; font-family: Helvetica\, Arial\, sans-serif\; font-size: 14px\; background-color: rgb(255\, 255\, 255)\;" />\n&nbsp\;\n<div class="_5pbx userContent _3576" data-ad-preview="message" data-ft="{&quot\;tn&quot\;:&quot\;K&quot\;}" id="js_4dn" style="font-size: 14px\; line-height: 1.38\; margin-top: 6px\; font-family: Helvetica\, Arial\, sans-serif\; color: rgb(29\, 33\, 41)\; background-color: rgb(255\, 255\, 255)\;"><span style="color: rgb(29\, 33\, 41)\; font-family: Helvetica\, Arial\, sans-serif\; font-size: 14px\; background-color: rgb(255\, 255\, 255)\;">Thank you to the sponsors that make this possible:Faribault Ace Hardware\, State Bank of Faribault\, IBEW Local 110\, Steele Waseca Cooperative\, Community Coop Oil Association\, Comprehensive Wealth Solutions\, Mayo Clinic Health System\, Hometown Credit Union\, Glass Garden Beads\, Faribault Woolen Mills\, Edina Realty\, Brushwork Signs\, Mill City Senior Living\, Reliance Bank\, Richie Eye Clinic\, Kwik Trip\, Rich Cahoon: Allstate\, Chappuis Jewelry\, Crooked Pint\, Fairway Outdoor\, First Financial Security\, Inc.\, Tony Langerude Insurance Agency\, Heartman Insurance\, Faribo Sno- Go Club\, Faribault Rental\, Faribault Daily News\, Power 96/ KDHL\,&nbsp\;</span><span style="color: rgb(29\, 33\, 41)\; font-family: Helvetica\, Arial\, sans-serif\; font-size: 14px\;">Wireless World Verizon Authorized Retailer</span></div>\n
LOCATION:Downtown Faribault
UID:e.66.14519
SEQUENCE:3
DTSTAMP:20260423T100408Z
URL:https://members.faribaultmn.org/events/details/winterfest-and-parade-of-lights-14519
END:VEVENT

END:VCALENDAR
