BEGIN:VCALENDAR
VERSION:2.0
PRODID:-//ChamberMaster//Event Calendar 2.0//EN
METHOD:PUBLISH
X-PUBLISHED-TTL:P3D
REFRESH-INTERVAL:P3D
CALSCALE:GREGORIAN
BEGIN:VEVENT
DTSTART:20181015T010000Z
DTEND:20181015T020000Z
X-MICROSOFT-CDO-ALLDAYEVENT:FALSE
SUMMARY:Women's Health Webinar
DESCRIPTION:Do you suffer from fatigue\, hot flashes\, or a low sex drive? These symptoms might be tied\n\nto a hormonal problem which can many times be managed with a specifically designed nutritional program. In this class you will learn how you can deal with these female hormonal\n\nproblems naturally to regain control of your health and wellness long-term with no negative side effects
X-ALT-DESC;FMTTYPE=text/html:Do you suffer from fatigue\, hot flashes\, or a low sex drive?&nbsp\;These symptoms might be tied<br />\nto a hormonal problem which can many times be managed with a specifically designed nutritional program. In this class you will learn how you can deal with these female hormonal<br />\n<span style="font-family:arial\,sans-serif"><span style="font-size:11.0pt">problems naturally to regain control of your health and wellness long-term with no negative side effects</span></span>
LOCATION:Zoom Webinar Instructions https://zoom.us Meeting ID# 280-990-5425 Or join by phone call: Dial +1-415-762-9988 Enter in Meeting ID# (listed above)
UID:e.66.16216
SEQUENCE:3
DTSTAMP:20260423T112126Z
URL:https://members.faribaultmn.org/events/details/women-s-health-webinar-16216
END:VEVENT

END:VCALENDAR
